BEGIN:VCALENDAR
VERSION:2.0
PRODID:-//The Whiskey Girls Saloon - ECPv6.15.20//NONSGML v1.0//EN
CALSCALE:GREGORIAN
METHOD:PUBLISH
X-WR-CALNAME:The Whiskey Girls Saloon
X-ORIGINAL-URL:https://whiskeygirlssaloon.com
X-WR-CALDESC:Events for The Whiskey Girls Saloon
REFRESH-INTERVAL;VALUE=DURATION:PT1H
X-Robots-Tag:noindex
X-PUBLISHED-TTL:PT1H
BEGIN:VTIMEZONE
TZID:UTC
BEGIN:STANDARD
TZOFFSETFROM:+0000
TZOFFSETTO:+0000
TZNAME:UTC
DTSTART:20230101T000000
END:STANDARD
END:VTIMEZONE
BEGIN:VEVENT
DTSTART;TZID=UTC:20241101T210000
DTEND;TZID=UTC:20241101T210000
DTSTAMP:20260421T221601
CREATED:20241004T030839Z
LAST-MODIFIED:20241004T030839Z
UID:1185-1730494800-1730494800@whiskeygirlssaloon.com
SUMMARY:ADLIB
DESCRIPTION:
URL:https://whiskeygirlssaloon.com/event/adlib/
LOCATION:Texas
END:VEVENT
BEGIN:VEVENT
DTSTART;TZID=UTC:20241115T210000
DTEND;TZID=UTC:20241115T210000
DTSTAMP:20260421T221601
CREATED:20241004T031020Z
LAST-MODIFIED:20241004T031020Z
UID:1188-1731704400-1731704400@whiskeygirlssaloon.com
SUMMARY:DJ Flovverheadd
DESCRIPTION:
URL:https://whiskeygirlssaloon.com/event/dj-flovverheadd-2/
LOCATION:Texas
END:VEVENT
END:VCALENDAR