BEGIN:VCALENDAR
VERSION:2.0
PRODID:-//The Whiskey Girls Saloon - ECPv6.15.20//NONSGML v1.0//EN
CALSCALE:GREGORIAN
METHOD:PUBLISH
X-WR-CALNAME:The Whiskey Girls Saloon
X-ORIGINAL-URL:https://whiskeygirlssaloon.com
X-WR-CALDESC:Events for The Whiskey Girls Saloon
REFRESH-INTERVAL;VALUE=DURATION:PT1H
X-Robots-Tag:noindex
X-PUBLISHED-TTL:PT1H
BEGIN:VTIMEZONE
TZID:America/Denver
BEGIN:DAYLIGHT
TZOFFSETFROM:-0700
TZOFFSETTO:-0600
TZNAME:MDT
DTSTART:20220313T090000
END:DAYLIGHT
BEGIN:STANDARD
TZOFFSETFROM:-0600
TZOFFSETTO:-0700
TZNAME:MST
DTSTART:20221106T080000
END:STANDARD
BEGIN:DAYLIGHT
TZOFFSETFROM:-0700
TZOFFSETTO:-0600
TZNAME:MDT
DTSTART:20230312T090000
END:DAYLIGHT
BEGIN:STANDARD
TZOFFSETFROM:-0600
TZOFFSETTO:-0700
TZNAME:MST
DTSTART:20231105T080000
END:STANDARD
BEGIN:DAYLIGHT
TZOFFSETFROM:-0700
TZOFFSETTO:-0600
TZNAME:MDT
DTSTART:20240310T090000
END:DAYLIGHT
BEGIN:STANDARD
TZOFFSETFROM:-0600
TZOFFSETTO:-0700
TZNAME:MST
DTSTART:20241103T080000
END:STANDARD
END:VTIMEZONE
BEGIN:VTIMEZONE
TZID:UTC
BEGIN:STANDARD
TZOFFSETFROM:+0000
TZOFFSETTO:+0000
TZNAME:UTC
DTSTART:20220101T000000
END:STANDARD
END:VTIMEZONE
BEGIN:VEVENT
DTSTART;TZID=America/Denver:20230707T210000
DTEND;TZID=America/Denver:20230707T235900
DTSTAMP:20260422T015935
CREATED:20230520T020923Z
LAST-MODIFIED:20230520T020923Z
UID:975-1688763600-1688774340@whiskeygirlssaloon.com
SUMMARY:Moon Tide
DESCRIPTION:
URL:https://whiskeygirlssaloon.com/event/moon-tide-6-7/
LOCATION:Whiskey Girls Saloon\, 13700 FM973 Bldg A\, Manor\, Texas\, 78653
END:VEVENT
BEGIN:VEVENT
DTSTART;TZID=America/Denver:20230701T210000
DTEND;TZID=America/Denver:20230701T235900
DTSTAMP:20260422T015935
CREATED:20230520T045532Z
LAST-MODIFIED:20230520T045532Z
UID:996-1688245200-1688255940@whiskeygirlssaloon.com
SUMMARY:Karaoke
DESCRIPTION:
URL:https://whiskeygirlssaloon.com/event/karaoke-7-1/
LOCATION:Whiskey Girls Saloon\, 13700 FM973 Bldg A\, Manor\, Texas\, 78653
END:VEVENT
BEGIN:VEVENT
DTSTART;TZID=America/Denver:20230630T210000
DTEND;TZID=America/Denver:20230630T235900
DTSTAMP:20260422T015935
CREATED:20230405T210013Z
LAST-MODIFIED:20230405T210013Z
UID:965-1688158800-1688169540@whiskeygirlssaloon.com
SUMMARY:Michael Milligan & Texiana Bluez
DESCRIPTION:
URL:https://whiskeygirlssaloon.com/event/michael-milligan-texiana-bluez/
LOCATION:Whiskey Girls Saloon\, 13700 FM973 Bldg A\, Manor\, Texas\, 78653
END:VEVENT
BEGIN:VEVENT
DTSTART;TZID=America/Denver:20230624T210000
DTEND;TZID=America/Denver:20230624T235900
DTSTAMP:20260422T015935
CREATED:20230520T020727Z
LAST-MODIFIED:20230520T020727Z
UID:973-1687640400-1687651140@whiskeygirlssaloon.com
SUMMARY:George Mercado
DESCRIPTION:
URL:https://whiskeygirlssaloon.com/event/george-mercado-6-24/
LOCATION:Whiskey Girls Saloon\, 13700 FM973 Bldg A\, Manor\, Texas\, 78653
END:VEVENT
BEGIN:VEVENT
DTSTART;TZID=America/Denver:20230623T210000
DTEND;TZID=America/Denver:20230623T235900
DTSTAMP:20260422T015935
CREATED:20230405T205735Z
LAST-MODIFIED:20230405T205735Z
UID:963-1687554000-1687564740@whiskeygirlssaloon.com
SUMMARY:D-Soul Davis Experience
DESCRIPTION:
URL:https://whiskeygirlssaloon.com/event/d-soul-davis-experience/
LOCATION:Whiskey Girls Saloon\, 13700 FM973 Bldg A\, Manor\, Texas\, 78653
END:VEVENT
BEGIN:VEVENT
DTSTART;TZID=America/Denver:20230617T210000
DTEND;TZID=America/Denver:20230617T235900
DTSTAMP:20260422T015935
CREATED:20230520T045430Z
LAST-MODIFIED:20230520T045430Z
UID:994-1687035600-1687046340@whiskeygirlssaloon.com
SUMMARY:Karaoke
DESCRIPTION:
URL:https://whiskeygirlssaloon.com/event/karaoke-6-17/
LOCATION:Whiskey Girls Saloon\, 13700 FM973 Bldg A\, Manor\, Texas\, 78653
END:VEVENT
BEGIN:VEVENT
DTSTART;TZID=America/Denver:20230616T210000
DTEND;TZID=America/Denver:20230616T235900
DTSTAMP:20260422T015935
CREATED:20230405T205607Z
LAST-MODIFIED:20230405T205607Z
UID:961-1686949200-1686959940@whiskeygirlssaloon.com
SUMMARY:Bidi Bidi Banda
DESCRIPTION:
URL:https://whiskeygirlssaloon.com/event/bidi-bidi-banda/
LOCATION:Whiskey Girls Saloon\, 13700 FM973 Bldg A\, Manor\, Texas\, 78653
END:VEVENT
BEGIN:VEVENT
DTSTART;TZID=America/Denver:20230610T210000
DTEND;TZID=America/Denver:20230610T235900
DTSTAMP:20260422T015935
CREATED:20230405T205409Z
LAST-MODIFIED:20230405T205409Z
UID:959-1686430800-1686441540@whiskeygirlssaloon.com
SUMMARY:Glenn Collins & The Alibis
DESCRIPTION:
URL:https://whiskeygirlssaloon.com/event/glenn-collins-the-alibis/
LOCATION:Whiskey Girls Saloon\, 13700 FM973 Bldg A\, Manor\, Texas\, 78653
END:VEVENT
BEGIN:VEVENT
DTSTART;TZID=America/Denver:20230609T210000
DTEND;TZID=America/Denver:20230609T235900
DTSTAMP:20260422T015935
CREATED:20230405T205125Z
LAST-MODIFIED:20230405T205125Z
UID:957-1686344400-1686355140@whiskeygirlssaloon.com
SUMMARY:Dry County
DESCRIPTION:
URL:https://whiskeygirlssaloon.com/event/dry-county6-9/
LOCATION:Whiskey Girls Saloon\, 13700 FM973 Bldg A\, Manor\, Texas\, 78653
END:VEVENT
BEGIN:VEVENT
DTSTART;TZID=America/Denver:20230603T210000
DTEND;TZID=America/Denver:20230603T235900
DTSTAMP:20260422T015935
CREATED:20230520T045336Z
LAST-MODIFIED:20230520T045336Z
UID:992-1685826000-1685836740@whiskeygirlssaloon.com
SUMMARY:Karaoke
DESCRIPTION:
URL:https://whiskeygirlssaloon.com/event/karaoke-6-3/
LOCATION:Whiskey Girls Saloon\, 13700 FM973 Bldg A\, Manor\, Texas\, 78653
END:VEVENT
BEGIN:VEVENT
DTSTART;TZID=UTC:20230602T210000
DTEND;TZID=UTC:20230602T235900
DTSTAMP:20260422T015935
CREATED:20230405T204810Z
LAST-MODIFIED:20230405T204810Z
UID:955-1685739600-1685750340@whiskeygirlssaloon.com
SUMMARY:X Factory
DESCRIPTION:
URL:https://whiskeygirlssaloon.com/event/x-factory-6-2/
LOCATION:Whiskey Girls Saloon\, 13700 FM973 Bldg A\, Manor\, Texas\, 78653
END:VEVENT
BEGIN:VEVENT
DTSTART;TZID=UTC:20230527T210000
DTEND;TZID=UTC:20230527T235900
DTSTAMP:20260422T015935
CREATED:20230520T020343Z
LAST-MODIFIED:20230520T020343Z
UID:971-1685221200-1685231940@whiskeygirlssaloon.com
SUMMARY:Karaoke
DESCRIPTION:
URL:https://whiskeygirlssaloon.com/event/karaoke-5-27/
LOCATION:Whiskey Girls Saloon\, 13700 FM973 Bldg A\, Manor\, Texas\, 78653
END:VEVENT
BEGIN:VEVENT
DTSTART;TZID=UTC:20230526T210000
DTEND;TZID=UTC:20230526T235900
DTSTAMP:20260422T015935
CREATED:20230405T203337Z
LAST-MODIFIED:20230405T203337Z
UID:953-1685134800-1685145540@whiskeygirlssaloon.com
SUMMARY:Michael Ingalls Band
DESCRIPTION:
URL:https://whiskeygirlssaloon.com/event/michael-ingalls-band/
LOCATION:Whiskey Girls Saloon\, 13700 FM973 Bldg A\, Manor\, Texas\, 78653
END:VEVENT
BEGIN:VEVENT
DTSTART;TZID=America/Denver:20230520T210000
DTEND;TZID=America/Denver:20230520T235900
DTSTAMP:20260422T015935
CREATED:20230520T020234Z
LAST-MODIFIED:20230520T020234Z
UID:969-1684616400-1684627140@whiskeygirlssaloon.com
SUMMARY:Karaoke
DESCRIPTION:
URL:https://whiskeygirlssaloon.com/event/karaoke-5-20/
LOCATION:Whiskey Girls Saloon\, 13700 FM973 Bldg A\, Manor\, Texas\, 78653
END:VEVENT
BEGIN:VEVENT
DTSTART;TZID=UTC:20230519T210000
DTEND;TZID=UTC:20230519T235900
DTSTAMP:20260422T015935
CREATED:20230405T202950Z
LAST-MODIFIED:20230405T202950Z
UID:951-1684530000-1684540740@whiskeygirlssaloon.com
SUMMARY:Hillbilly National Bank
DESCRIPTION:
URL:https://whiskeygirlssaloon.com/event/hillbilly-national-bank-3/
LOCATION:Whiskey Girls Saloon\, 13700 FM973 Bldg A\, Manor\, Texas\, 78653
END:VEVENT
BEGIN:VEVENT
DTSTART;TZID=UTC:20230512T210000
DTEND;TZID=UTC:20230512T235900
DTSTAMP:20260422T015935
CREATED:20230405T202631Z
LAST-MODIFIED:20230405T202631Z
UID:949-1683925200-1683935940@whiskeygirlssaloon.com
SUMMARY:Gabor Nicholson Band
DESCRIPTION:Southern rock band playing covers and originals
URL:https://whiskeygirlssaloon.com/event/gabor-nicholson-band/
LOCATION:Whiskey Girls Saloon\, 13700 FM973 Bldg A\, Manor\, Texas\, 78653
END:VEVENT
BEGIN:VEVENT
DTSTART;TZID=America/Denver:20230506T210000
DTEND;TZID=America/Denver:20230506T235900
DTSTAMP:20260422T015935
CREATED:20230405T202341Z
LAST-MODIFIED:20230405T202341Z
UID:947-1683406800-1683417540@whiskeygirlssaloon.com
SUMMARY:Jon & Faith Austin
DESCRIPTION:A duo new to the Whiskey Girls stage!
URL:https://whiskeygirlssaloon.com/event/jon-faith-austin-5-6/
LOCATION:Whiskey Girls Saloon\, 13700 FM973 Bldg A\, Manor\, Texas\, 78653
END:VEVENT
BEGIN:VEVENT
DTSTART;TZID=America/Denver:20230505T210000
DTEND;TZID=America/Denver:20230505T235900
DTSTAMP:20260422T015935
CREATED:20230405T202020Z
LAST-MODIFIED:20230405T202416Z
UID:945-1683320400-1683331140@whiskeygirlssaloon.com
SUMMARY:American Gypsy Band
DESCRIPTION:It’s Cinco de Mayo and AGB is back at Whiskey Girls!
URL:https://whiskeygirlssaloon.com/event/american-gypsy-band5-5/
LOCATION:Whiskey Girls Saloon\, 13700 FM973 Bldg A\, Manor\, Texas\, 78653
END:VEVENT
BEGIN:VEVENT
DTSTART;TZID=UTC:20230429T210000
DTEND;TZID=UTC:20230429T235900
DTSTAMP:20260422T015935
CREATED:20230318T044241Z
LAST-MODIFIED:20230318T044241Z
UID:913-1682802000-1682812740@whiskeygirlssaloon.com
SUMMARY:Karaoke
DESCRIPTION:
URL:https://whiskeygirlssaloon.com/event/karaoke-4-29/
LOCATION:Whiskey Girls Saloon\, 13700 FM973 Bldg A\, Manor\, Texas\, 78653
END:VEVENT
BEGIN:VEVENT
DTSTART;TZID=America/Denver:20230428T210000
DTEND;TZID=America/Denver:20230428T235900
DTSTAMP:20260422T015935
CREATED:20230318T044021Z
LAST-MODIFIED:20230318T044021Z
UID:910-1682715600-1682726340@whiskeygirlssaloon.com
SUMMARY:Hit & Run
DESCRIPTION:Hit & Run performs everything from classic rock\, disco\, dance & pop to current top 40 hits! They get the bar rockin’\, so don’t miss out! \nHit & Run’s Facebook
URL:https://whiskeygirlssaloon.com/event/hit-n-run-4-28/
LOCATION:Whiskey Girls Saloon\, 13700 FM973 Bldg A\, Manor\, Texas\, 78653
END:VEVENT
BEGIN:VEVENT
DTSTART;TZID=America/Denver:20230427T210000
DTEND;TZID=America/Denver:20230427T235900
DTSTAMP:20260422T015935
CREATED:20230326T022133Z
LAST-MODIFIED:20230326T022133Z
UID:942-1682629200-1682639940@whiskeygirlssaloon.com
SUMMARY:Tejano Night
DESCRIPTION:Every Thursday\, DJ Flaco hosts Tejano night!
URL:https://whiskeygirlssaloon.com/event/tejano-night-4-27/
LOCATION:Whiskey Girls Saloon\, 13700 FM973 Bldg A\, Manor\, Texas\, 78653
END:VEVENT
BEGIN:VEVENT
DTSTART;VALUE=DATE:20230425
DTEND;VALUE=DATE:20230426
DTSTAMP:20260422T015935
CREATED:20230326T021014Z
LAST-MODIFIED:20230326T021014Z
UID:933-1682380800-1682467199@whiskeygirlssaloon.com
SUMMARY:All Day Free Pool
DESCRIPTION:From open to close\, the pool tables are free! Grab a friend or two and shoot at some pockets!
URL:https://whiskeygirlssaloon.com/event/freepool4-25/
LOCATION:Whiskey Girls Saloon\, 13700 FM973 Bldg A\, Manor\, Texas\, 78653
END:VEVENT
BEGIN:VEVENT
DTSTART;TZID=America/Denver:20230424T190000
DTEND;TZID=America/Denver:20230424T235900
DTSTAMP:20260422T015935
CREATED:20230326T015934Z
LAST-MODIFIED:20230326T015934Z
UID:924-1682362800-1682380740@whiskeygirlssaloon.com
SUMMARY:Open Mic\, Pool Tournament\, and S.I.N. pricing
DESCRIPTION:7pm – weekly Open Mic with Glen Collins\n8pm – Weekly Pool Tournament w/$10 entry\nS.I.N. drink prices all night!
URL:https://whiskeygirlssaloon.com/event/openmic4-24/
LOCATION:Whiskey Girls Saloon\, 13700 FM973 Bldg A\, Manor\, Texas\, 78653
END:VEVENT
BEGIN:VEVENT
DTSTART;TZID=America/Denver:20230422T210000
DTEND;TZID=America/Denver:20230422T235900
DTSTAMP:20260422T015935
CREATED:20230318T043058Z
LAST-MODIFIED:20230318T043058Z
UID:907-1682197200-1682207940@whiskeygirlssaloon.com
SUMMARY:Dry County
DESCRIPTION:Dry County’s Facebook
URL:https://whiskeygirlssaloon.com/event/dry-county-4-22/
LOCATION:Whiskey Girls Saloon\, 13700 FM973 Bldg A\, Manor\, Texas\, 78653
END:VEVENT
BEGIN:VEVENT
DTSTART;TZID=America/Denver:20230421T210000
DTEND;TZID=America/Denver:20230421T235900
DTSTAMP:20260422T015935
CREATED:20230318T042510Z
LAST-MODIFIED:20230318T042510Z
UID:904-1682110800-1682121540@whiskeygirlssaloon.com
SUMMARY:Los Juanabes
DESCRIPTION:Juan Rodriguez is a renowned multi-percussionist from Eagle Pass\, Texas \nLos Juanabes Facebook
URL:https://whiskeygirlssaloon.com/event/los-juanabees-4-21/
LOCATION:Whiskey Girls Saloon\, 13700 FM973 Bldg A\, Manor\, Texas\, 78653
END:VEVENT
BEGIN:VEVENT
DTSTART;TZID=America/Denver:20230420T210000
DTEND;TZID=America/Denver:20230420T235900
DTSTAMP:20260422T015935
CREATED:20230326T021949Z
LAST-MODIFIED:20230326T022207Z
UID:940-1682024400-1682035140@whiskeygirlssaloon.com
SUMMARY:Tejano Night
DESCRIPTION:Every Thursday\, DJ Flaco hosts Tejano night!
URL:https://whiskeygirlssaloon.com/event/tejano-night-4-20/
LOCATION:Whiskey Girls Saloon\, 13700 FM973 Bldg A\, Manor\, Texas\, 78653
END:VEVENT
BEGIN:VEVENT
DTSTART;VALUE=DATE:20230418
DTEND;VALUE=DATE:20230419
DTSTAMP:20260422T015935
CREATED:20230326T020843Z
LAST-MODIFIED:20230326T020843Z
UID:931-1681776000-1681862399@whiskeygirlssaloon.com
SUMMARY:All Day Free Pool
DESCRIPTION:From open to close\, the pool tables are free! Grab a friend or two and shoot at some pockets!
URL:https://whiskeygirlssaloon.com/event/freepool4-18/
LOCATION:Whiskey Girls Saloon\, 13700 FM973 Bldg A\, Manor\, Texas\, 78653
END:VEVENT
BEGIN:VEVENT
DTSTART;TZID=America/Denver:20230417T190000
DTEND;TZID=America/Denver:20230417T235900
DTSTAMP:20260422T015935
CREATED:20230326T015653Z
LAST-MODIFIED:20230326T015653Z
UID:922-1681758000-1681775940@whiskeygirlssaloon.com
SUMMARY:Open Mic\, Pool Tournament\, and S.I.N. pricing
DESCRIPTION:7pm – weekly Open Mic with Glen Collins\n8pm – Weekly Pool Tournament w/$10 entry\nS.I.N. drink prices all night!
URL:https://whiskeygirlssaloon.com/event/openmic4-17/
LOCATION:Whiskey Girls Saloon\, 13700 FM973 Bldg A\, Manor\, Texas\, 78653
END:VEVENT
BEGIN:VEVENT
DTSTART;TZID=UTC:20230415T210000
DTEND;TZID=UTC:20230415T235900
DTSTAMP:20260422T015935
CREATED:20230318T030440Z
LAST-MODIFIED:20230318T030440Z
UID:887-1681592400-1681603140@whiskeygirlssaloon.com
SUMMARY:Karaoke
DESCRIPTION:
URL:https://whiskeygirlssaloon.com/event/karaoke-4-15/
LOCATION:Whiskey Girls Saloon\, 13700 FM973 Bldg A\, Manor\, Texas\, 78653
END:VEVENT
BEGIN:VEVENT
DTSTART;TZID=America/Denver:20230414T210000
DTEND;TZID=America/Denver:20230414T235900
DTSTAMP:20260422T015935
CREATED:20230318T035757Z
LAST-MODIFIED:20230318T035757Z
UID:901-1681506000-1681516740@whiskeygirlssaloon.com
SUMMARY:Whitestone
DESCRIPTION:Whitestone band performs hits from the 1960’s – 2020’s! Country\, classic rock\, you name it! \nWhitestone Website
URL:https://whiskeygirlssaloon.com/event/whitestone-4-14/
LOCATION:Whiskey Girls Saloon\, 13700 FM973 Bldg A\, Manor\, Texas\, 78653
END:VEVENT
END:VCALENDAR