BEGIN:VCALENDAR
VERSION:2.0
PRODID:-//The Whiskey Girls Saloon - ECPv6.15.20//NONSGML v1.0//EN
CALSCALE:GREGORIAN
METHOD:PUBLISH
X-WR-CALNAME:The Whiskey Girls Saloon
X-ORIGINAL-URL:https://whiskeygirlssaloon.com
X-WR-CALDESC:Events for The Whiskey Girls Saloon
REFRESH-INTERVAL;VALUE=DURATION:PT1H
X-Robots-Tag:noindex
X-PUBLISHED-TTL:PT1H
BEGIN:VTIMEZONE
TZID:America/Denver
BEGIN:DAYLIGHT
TZOFFSETFROM:-0700
TZOFFSETTO:-0600
TZNAME:MDT
DTSTART:20220313T090000
END:DAYLIGHT
BEGIN:STANDARD
TZOFFSETFROM:-0600
TZOFFSETTO:-0700
TZNAME:MST
DTSTART:20221106T080000
END:STANDARD
BEGIN:DAYLIGHT
TZOFFSETFROM:-0700
TZOFFSETTO:-0600
TZNAME:MDT
DTSTART:20230312T090000
END:DAYLIGHT
BEGIN:STANDARD
TZOFFSETFROM:-0600
TZOFFSETTO:-0700
TZNAME:MST
DTSTART:20231105T080000
END:STANDARD
BEGIN:DAYLIGHT
TZOFFSETFROM:-0700
TZOFFSETTO:-0600
TZNAME:MDT
DTSTART:20240310T090000
END:DAYLIGHT
BEGIN:STANDARD
TZOFFSETFROM:-0600
TZOFFSETTO:-0700
TZNAME:MST
DTSTART:20241103T080000
END:STANDARD
END:VTIMEZONE
BEGIN:VEVENT
DTSTART;TZID=America/Denver:20231215T210000
DTEND;TZID=America/Denver:20231215T235900
DTSTAMP:20260421T234936
CREATED:20230819T043606Z
LAST-MODIFIED:20230819T043606Z
UID:1042-1702674000-1702684740@whiskeygirlssaloon.com
SUMMARY:3rd ANNUAL CHRISTMAS PARTY
DESCRIPTION:HO HO HO! \nChristmas means gifts\, and we’ve got gifts! Come get festive and spirited with us and D-Soul Davis Experience!
URL:https://whiskeygirlssaloon.com/event/3rd-annual-christmas-party-12-15/
LOCATION:Whiskey Girls Saloon\, 13700 FM973 Bldg A\, Manor\, Texas\, 78653
END:VEVENT
BEGIN:VEVENT
DTSTART;TZID=America/Denver:20231209T210000
DTEND;TZID=America/Denver:20231209T235900
DTSTAMP:20260421T234936
CREATED:20230819T043303Z
LAST-MODIFIED:20230819T043303Z
UID:1040-1702155600-1702166340@whiskeygirlssaloon.com
SUMMARY:The Alibis
DESCRIPTION:
URL:https://whiskeygirlssaloon.com/event/the-alibis-12-9/
LOCATION:Whiskey Girls Saloon\, 13700 FM973 Bldg A\, Manor\, Texas\, 78653
END:VEVENT
BEGIN:VEVENT
DTSTART;TZID=America/Denver:20231208T210000
DTEND;TZID=America/Denver:20231208T235900
DTSTAMP:20260421T234936
CREATED:20230928T160752Z
LAST-MODIFIED:20230928T160752Z
UID:1061-1702069200-1702079940@whiskeygirlssaloon.com
SUMMARY:Jerry & Steve Maynard
DESCRIPTION:
URL:https://whiskeygirlssaloon.com/event/jerry-steve-maynard-12-8/
LOCATION:Whiskey Girls Saloon\, 13700 FM973 Bldg A\, Manor\, Texas\, 78653
END:VEVENT
BEGIN:VEVENT
DTSTART;TZID=America/Denver:20231124T210000
DTEND;TZID=America/Denver:20231124T235900
DTSTAMP:20260421T234936
CREATED:20230928T160422Z
LAST-MODIFIED:20230928T160422Z
UID:1059-1700859600-1700870340@whiskeygirlssaloon.com
SUMMARY:Bidi Bidi Banda
DESCRIPTION:
URL:https://whiskeygirlssaloon.com/event/bidi-bidi-banda-11-24-2/
LOCATION:Whiskey Girls Saloon\, 13700 FM973 Bldg A\, Manor\, Texas\, 78653
END:VEVENT
BEGIN:VEVENT
DTSTART;TZID=America/Denver:20231117T210000
DTEND;TZID=America/Denver:20231117T235900
DTSTAMP:20260421T234936
CREATED:20230928T160127Z
LAST-MODIFIED:20230928T160127Z
UID:1057-1700254800-1700265540@whiskeygirlssaloon.com
SUMMARY:Fun Gus and The Shrooms
DESCRIPTION:
URL:https://whiskeygirlssaloon.com/event/fun-gus-and-the-shrooms-11-17/
LOCATION:Whiskey Girls Saloon\, 13700 FM973 Bldg A\, Manor\, Texas\, 78653
END:VEVENT
BEGIN:VEVENT
DTSTART;TZID=America/Denver:20231110T210000
DTEND;TZID=America/Denver:20231110T235900
DTSTAMP:20260421T234936
CREATED:20230928T155940Z
LAST-MODIFIED:20230928T160535Z
UID:1055-1699650000-1699660740@whiskeygirlssaloon.com
SUMMARY:Steph Cash Band
DESCRIPTION:
URL:https://whiskeygirlssaloon.com/event/steph-cash-band-11-10/
LOCATION:Whiskey Girls Saloon\, 13700 FM973 Bldg A\, Manor\, Texas\, 78653
END:VEVENT
BEGIN:VEVENT
DTSTART;TZID=America/Denver:20231103T210000
DTEND;TZID=America/Denver:20231103T235900
DTSTAMP:20260421T234936
CREATED:20230928T155722Z
LAST-MODIFIED:20230928T155722Z
UID:1053-1699045200-1699055940@whiskeygirlssaloon.com
SUMMARY:X Factory
DESCRIPTION:
URL:https://whiskeygirlssaloon.com/event/x-factory-11-3/
LOCATION:Whiskey Girls Saloon\, 13700 FM973 Bldg A\, Manor\, Texas\, 78653
END:VEVENT
BEGIN:VEVENT
DTSTART;TZID=America/Denver:20231027T210000
DTEND;TZID=America/Denver:20231027T235900
DTSTAMP:20260421T234936
CREATED:20230819T042951Z
LAST-MODIFIED:20230819T042951Z
UID:1036-1698440400-1698451140@whiskeygirlssaloon.com
SUMMARY:3rd ANNUAL HALLOWEEN PARTY
DESCRIPTION:Get your costumes in order! This is our biggest party of the year! Drawings\, giveaways\, spooky drinks\, costume contest\, and music by D-Soul Davis Experience! Come early\, stay late. The giveaways get better and better throughout the night!
URL:https://whiskeygirlssaloon.com/event/3rd-annual-halloween-party-10-27/
LOCATION:Texas
END:VEVENT
BEGIN:VEVENT
DTSTART;TZID=America/Denver:20231020T210000
DTEND;TZID=America/Denver:20231020T235900
DTSTAMP:20260421T234936
CREATED:20230928T155506Z
LAST-MODIFIED:20230928T155506Z
UID:1051-1697835600-1697846340@whiskeygirlssaloon.com
SUMMARY:Dirt Road Band
DESCRIPTION:
URL:https://whiskeygirlssaloon.com/event/dirt-road-band-10-20/
LOCATION:Whiskey Girls Saloon\, 13700 FM973 Bldg A\, Manor\, Texas\, 78653
END:VEVENT
BEGIN:VEVENT
DTSTART;TZID=America/Denver:20231014T210000
DTEND;TZID=America/Denver:20231014T235900
DTSTAMP:20260421T234936
CREATED:20230819T042621Z
LAST-MODIFIED:20230819T042621Z
UID:1034-1697317200-1697327940@whiskeygirlssaloon.com
SUMMARY:The Alibis
DESCRIPTION:
URL:https://whiskeygirlssaloon.com/event/the-alibis-10-14/
LOCATION:Whiskey Girls Saloon\, 13700 FM973 Bldg A\, Manor\, Texas\, 78653
END:VEVENT
BEGIN:VEVENT
DTSTART;TZID=America/Denver:20231013T210000
DTEND;TZID=America/Denver:20231013T235900
DTSTAMP:20260421T234936
CREATED:20230819T042517Z
LAST-MODIFIED:20230819T042517Z
UID:1032-1697230800-1697241540@whiskeygirlssaloon.com
SUMMARY:Whitestone
DESCRIPTION:
URL:https://whiskeygirlssaloon.com/event/whitestone-10-13/
LOCATION:Whiskey Girls Saloon\, 13700 FM973 Bldg A\, Manor\, Texas\, 78653
END:VEVENT
BEGIN:VEVENT
DTSTART;TZID=America/Denver:20231006T210000
DTEND;TZID=America/Denver:20231006T235900
DTSTAMP:20260421T234936
CREATED:20230928T155241Z
LAST-MODIFIED:20230928T155241Z
UID:1049-1696626000-1696636740@whiskeygirlssaloon.com
SUMMARY:Whiskey Renegade
DESCRIPTION:
URL:https://whiskeygirlssaloon.com/event/whiskey-renegade-10-6/
LOCATION:Whiskey Girls Saloon\, 13700 FM973 Bldg A\, Manor\, Texas\, 78653
END:VEVENT
BEGIN:VEVENT
DTSTART;TZID=America/Denver:20230930T210000
DTEND;TZID=America/Denver:20230930T235900
DTSTAMP:20260421T234936
CREATED:20230817T214516Z
LAST-MODIFIED:20230817T214516Z
UID:1022-1696107600-1696118340@whiskeygirlssaloon.com
SUMMARY:Karaoke
DESCRIPTION:
URL:https://whiskeygirlssaloon.com/event/karaoke-9-30/
LOCATION:Whiskey Girls Saloon\, 13700 FM973 Bldg A\, Manor\, Texas\, 78653
END:VEVENT
BEGIN:VEVENT
DTSTART;TZID=America/Denver:20230929T210000
DTEND;TZID=America/Denver:20230929T235900
DTSTAMP:20260421T234936
CREATED:20230819T042412Z
LAST-MODIFIED:20230819T042412Z
UID:1030-1696021200-1696031940@whiskeygirlssaloon.com
SUMMARY:Moon Tide
DESCRIPTION:
URL:https://whiskeygirlssaloon.com/event/moon-tide-9-29/
LOCATION:Whiskey Girls Saloon\, 13700 FM973 Bldg A\, Manor\, Texas\, 78653
END:VEVENT
BEGIN:VEVENT
DTSTART;TZID=America/Denver:20230923T210000
DTEND;TZID=America/Denver:20230923T235900
DTSTAMP:20260421T234936
CREATED:20230817T214349Z
LAST-MODIFIED:20230817T214349Z
UID:1020-1695502800-1695513540@whiskeygirlssaloon.com
SUMMARY:Karaoke
DESCRIPTION:
URL:https://whiskeygirlssaloon.com/event/karaoke-9-23/
LOCATION:Whiskey Girls Saloon\, 13700 FM973 Bldg A\, Manor\, Texas\, 78653
END:VEVENT
BEGIN:VEVENT
DTSTART;TZID=America/Denver:20230922T210000
DTEND;TZID=America/Denver:20230922T235900
DTSTAMP:20260421T234936
CREATED:20230819T043145Z
LAST-MODIFIED:20230819T043145Z
UID:1038-1695416400-1695427140@whiskeygirlssaloon.com
SUMMARY:Bidi Bidi Banda
DESCRIPTION:
URL:https://whiskeygirlssaloon.com/event/bidi-bidi-banda-11-24/
LOCATION:Whiskey Girls Saloon\, 13700 FM973 Bldg A\, Manor\, Texas\, 78653
END:VEVENT
BEGIN:VEVENT
DTSTART;TZID=America/Denver:20230922T210000
DTEND;TZID=America/Denver:20230922T235900
DTSTAMP:20260421T234936
CREATED:20230819T042314Z
LAST-MODIFIED:20230819T042314Z
UID:1028-1695416400-1695427140@whiskeygirlssaloon.com
SUMMARY:Los Juanabes
DESCRIPTION:
URL:https://whiskeygirlssaloon.com/event/los-juanabes-8-22/
LOCATION:Whiskey Girls Saloon\, 13700 FM973 Bldg A\, Manor\, Texas\, 78653
END:VEVENT
BEGIN:VEVENT
DTSTART;TZID=America/Denver:20230916T210000
DTEND;TZID=America/Denver:20230916T235900
DTSTAMP:20260421T234936
CREATED:20230817T214258Z
LAST-MODIFIED:20230817T214258Z
UID:1018-1694898000-1694908740@whiskeygirlssaloon.com
SUMMARY:Karaoke
DESCRIPTION:
URL:https://whiskeygirlssaloon.com/event/karaoke-9-16/
LOCATION:Whiskey Girls Saloon\, 13700 FM973 Bldg A\, Manor\, Texas\, 78653
END:VEVENT
BEGIN:VEVENT
DTSTART;TZID=America/Denver:20230915T210000
DTEND;TZID=America/Denver:20230915T235900
DTSTAMP:20260421T234936
CREATED:20230819T042210Z
LAST-MODIFIED:20230819T042210Z
UID:1026-1694811600-1694822340@whiskeygirlssaloon.com
SUMMARY:Dry County
DESCRIPTION:
URL:https://whiskeygirlssaloon.com/event/dry-county-9-15/
LOCATION:Whiskey Girls Saloon\, 13700 FM973 Bldg A\, Manor\, Texas\, 78653
END:VEVENT
BEGIN:VEVENT
DTSTART;TZID=America/Denver:20230909T210000
DTEND;TZID=America/Denver:20230909T235900
DTSTAMP:20260421T234936
CREATED:20230817T214200Z
LAST-MODIFIED:20230819T041846Z
UID:1016-1694293200-1694303940@whiskeygirlssaloon.com
SUMMARY:Karaoke
DESCRIPTION:
URL:https://whiskeygirlssaloon.com/event/karaoke-11-9/
LOCATION:Whiskey Girls Saloon\, 13700 FM973 Bldg A\, Manor\, Texas\, 78653
END:VEVENT
BEGIN:VEVENT
DTSTART;TZID=America/Denver:20230908T210000
DTEND;TZID=America/Denver:20230908T235900
DTSTAMP:20260421T234936
CREATED:20230819T042043Z
LAST-MODIFIED:20230819T042043Z
UID:1024-1694206800-1694217540@whiskeygirlssaloon.com
SUMMARY:Hillbilly National Bank
DESCRIPTION:
URL:https://whiskeygirlssaloon.com/event/hillbilly-national-bank-9-8/
LOCATION:Whiskey Girls Saloon\, 13700 FM973 Bldg A\, Manor\, Texas\, 78653
END:VEVENT
BEGIN:VEVENT
DTSTART;TZID=America/Denver:20230902T210000
DTEND;TZID=America/Denver:20230902T235900
DTSTAMP:20260421T234936
CREATED:20230817T214027Z
LAST-MODIFIED:20230819T041814Z
UID:1014-1693688400-1693699140@whiskeygirlssaloon.com
SUMMARY:Karaoke
DESCRIPTION:
URL:https://whiskeygirlssaloon.com/event/karaoke-9-2/
LOCATION:Whiskey Girls Saloon\, 13700 FM973 Bldg A\, Manor\, Texas\, 78653
END:VEVENT
BEGIN:VEVENT
DTSTART;TZID=America/Denver:20230901T210000
DTEND;TZID=America/Denver:20230901T235900
DTSTAMP:20260421T234936
CREATED:20230817T213838Z
LAST-MODIFIED:20230817T213838Z
UID:1012-1693602000-1693612740@whiskeygirlssaloon.com
SUMMARY:Michael Milligan & The Texiana Blues
DESCRIPTION:
URL:https://whiskeygirlssaloon.com/event/michael-milligan-the-texiana-blues/
LOCATION:Whiskey Girls Saloon\, 13700 FM973 Bldg A\, Manor\, Texas\, 78653
END:VEVENT
BEGIN:VEVENT
DTSTART;TZID=America/Denver:20230826T080000
DTEND;TZID=America/Denver:20230826T170000
DTSTAMP:20260421T234936
CREATED:20230520T022654Z
LAST-MODIFIED:20230520T022654Z
UID:990-1693036800-1693069200@whiskeygirlssaloon.com
SUMMARY:Whitestone
DESCRIPTION:
URL:https://whiskeygirlssaloon.com/event/whitestone-8-26/
LOCATION:Whiskey Girls Saloon\, 13700 FM973 Bldg A\, Manor\, Texas\, 78653
END:VEVENT
BEGIN:VEVENT
DTSTART;TZID=America/Denver:20230825T214500
DTEND;TZID=America/Denver:20230826T010000
DTSTAMP:20260421T234936
CREATED:20230731T235824Z
LAST-MODIFIED:20230801T000233Z
UID:1007-1692999900-1693011600@whiskeygirlssaloon.com
SUMMARY:D-Soul
DESCRIPTION:The D-Soul Davis Experience is one you won’t want to miss! They play every few months\, so check ’em out when you can!
URL:https://whiskeygirlssaloon.com/event/d-soul-8-25/
LOCATION:Whiskey Girls Saloon\, 13700 FM973 Bldg A\, Manor\, Texas\, 78653
END:VEVENT
BEGIN:VEVENT
DTSTART;TZID=America/Denver:20230818T210000
DTEND;TZID=America/Denver:20230818T235900
DTSTAMP:20260421T234936
CREATED:20230520T022507Z
LAST-MODIFIED:20230520T022507Z
UID:988-1692392400-1692403140@whiskeygirlssaloon.com
SUMMARY:Michael Ingalls
DESCRIPTION:
URL:https://whiskeygirlssaloon.com/event/michael-ingalls-8-18/
LOCATION:Whiskey Girls Saloon\, 13700 FM973 Bldg A\, Manor\, Texas\, 78653
END:VEVENT
BEGIN:VEVENT
DTSTART;TZID=America/Denver:20230812T210000
DTEND;TZID=America/Denver:20230812T233000
DTSTAMP:20260421T234936
CREATED:20230520T022234Z
LAST-MODIFIED:20230520T022234Z
UID:986-1691874000-1691883000@whiskeygirlssaloon.com
SUMMARY:Glen Collins & The Alibis
DESCRIPTION:
URL:https://whiskeygirlssaloon.com/event/glen-collins-the-alibis-8-12/
LOCATION:Whiskey Girls Saloon\, 13700 FM973 Bldg A\, Manor\, Texas\, 78653
END:VEVENT
BEGIN:VEVENT
DTSTART;TZID=America/Denver:20230811T210000
DTEND;TZID=America/Denver:20230811T235900
DTSTAMP:20260421T234936
CREATED:20230520T022001Z
LAST-MODIFIED:20230520T022001Z
UID:984-1691787600-1691798340@whiskeygirlssaloon.com
SUMMARY:3rd Party Check
DESCRIPTION:
URL:https://whiskeygirlssaloon.com/event/3rd-party-check-8-11/
LOCATION:Whiskey Girls Saloon\, 13700 FM973 Bldg A\, Manor\, Texas\, 78653
END:VEVENT
BEGIN:VEVENT
DTSTART;TZID=America/Denver:20230805T210000
DTEND;TZID=America/Denver:20230805T235900
DTSTAMP:20260421T234936
CREATED:20230731T235351Z
LAST-MODIFIED:20230731T235351Z
UID:1005-1691269200-1691279940@whiskeygirlssaloon.com
SUMMARY:KARAOKE
DESCRIPTION:
URL:https://whiskeygirlssaloon.com/event/karaoke-8-5-2/
LOCATION:Whiskey Girls Saloon\, 13700 FM973 Bldg A\, Manor\, Texas\, 78653
END:VEVENT
BEGIN:VEVENT
DTSTART;TZID=America/Denver:20230805T210000
DTEND;TZID=America/Denver:20230805T235900
DTSTAMP:20260421T234936
CREATED:20230520T045826Z
LAST-MODIFIED:20230520T045826Z
UID:1002-1691269200-1691279940@whiskeygirlssaloon.com
SUMMARY:Karaoke
DESCRIPTION:
URL:https://whiskeygirlssaloon.com/event/karaoke-8-5/
LOCATION:Whiskey Girls Saloon\, 13700 FM973 Bldg A\, Manor\, Texas\, 78653
END:VEVENT
END:VCALENDAR