BEGIN:VCALENDAR
VERSION:2.0
PRODID:-//The Whiskey Girls Saloon - ECPv6.15.20//NONSGML v1.0//EN
CALSCALE:GREGORIAN
METHOD:PUBLISH
X-WR-CALNAME:The Whiskey Girls Saloon
X-ORIGINAL-URL:https://whiskeygirlssaloon.com
X-WR-CALDESC:Events for The Whiskey Girls Saloon
REFRESH-INTERVAL;VALUE=DURATION:PT1H
X-Robots-Tag:noindex
X-PUBLISHED-TTL:PT1H
BEGIN:VTIMEZONE
TZID:UTC
BEGIN:STANDARD
TZOFFSETFROM:+0000
TZOFFSETTO:+0000
TZNAME:UTC
DTSTART:20200101T000000
END:STANDARD
END:VTIMEZONE
BEGIN:VEVENT
DTSTART;TZID=UTC:20210808T140000
DTEND;TZID=UTC:20210808T170000
DTSTAMP:20260423T201229
CREATED:20210719T014802Z
LAST-MODIFIED:20210719T014802Z
UID:192-1628431200-1628442000@whiskeygirlssaloon.com
SUMMARY:Live Acoustic Set
DESCRIPTION:
URL:https://whiskeygirlssaloon.com/event/live-acoustic-set-3/
END:VEVENT
BEGIN:VEVENT
DTSTART;TZID=UTC:20210808T120000
DTEND;TZID=UTC:20210808T170000
DTSTAMP:20260423T201229
CREATED:20210719T014616Z
LAST-MODIFIED:20210719T014616Z
UID:182-1628424000-1628442000@whiskeygirlssaloon.com
SUMMARY:Bloody Mary Bar & $3 Mimosas
DESCRIPTION:
URL:https://whiskeygirlssaloon.com/event/bloody-mary-bar-3-mimosas-3/
END:VEVENT
BEGIN:VEVENT
DTSTART;TZID=UTC:20210807T210000
DTEND;TZID=UTC:20210807T210000
DTSTAMP:20260423T201229
CREATED:20210719T014108Z
LAST-MODIFIED:20210719T014108Z
UID:166-1628370000-1628370000@whiskeygirlssaloon.com
SUMMARY:Honey Punch
DESCRIPTION:Live Music!
URL:https://whiskeygirlssaloon.com/event/honey-punch/
END:VEVENT
BEGIN:VEVENT
DTSTART;TZID=UTC:20210806T210000
DTEND;TZID=UTC:20210806T210000
DTSTAMP:20260423T201229
CREATED:20210719T014045Z
LAST-MODIFIED:20210719T014045Z
UID:164-1628283600-1628283600@whiskeygirlssaloon.com
SUMMARY:Hit & Run
DESCRIPTION:Live Music!
URL:https://whiskeygirlssaloon.com/event/hit-run/
END:VEVENT
BEGIN:VEVENT
DTSTART;TZID=UTC:20210805T190000
DTEND;TZID=UTC:20210805T190000
DTSTAMP:20260423T201229
CREATED:20210719T020040Z
LAST-MODIFIED:20210719T020040Z
UID:224-1628190000-1628190000@whiskeygirlssaloon.com
SUMMARY:Kontenders Poker
DESCRIPTION:
URL:https://whiskeygirlssaloon.com/event/kontenders-poker-6/
END:VEVENT
BEGIN:VEVENT
DTSTART;TZID=UTC:20210804T190000
DTEND;TZID=UTC:20210804T230000
DTSTAMP:20260423T201229
CREATED:20210719T020103Z
LAST-MODIFIED:20210719T020103Z
UID:226-1628103600-1628118000@whiskeygirlssaloon.com
SUMMARY:Karaoke
DESCRIPTION:
URL:https://whiskeygirlssaloon.com/event/karaoke-3/
END:VEVENT
BEGIN:VEVENT
DTSTART;VALUE=DATE:20210804
DTEND;VALUE=DATE:20210805
DTSTAMP:20260423T201229
CREATED:20210719T020205Z
LAST-MODIFIED:20210719T020258Z
UID:228-1628035200-1628121599@whiskeygirlssaloon.com
SUMMARY:All Day Happy Hour
DESCRIPTION:
URL:https://whiskeygirlssaloon.com/event/all-day-happy-hour-3/
END:VEVENT
BEGIN:VEVENT
DTSTART;TZID=UTC:20210803T190000
DTEND;TZID=UTC:20210803T190000
DTSTAMP:20260423T201229
CREATED:20210719T020023Z
LAST-MODIFIED:20210719T020023Z
UID:222-1628017200-1628017200@whiskeygirlssaloon.com
SUMMARY:Kontenders Poker
DESCRIPTION:
URL:https://whiskeygirlssaloon.com/event/kontenders-poker-5/
END:VEVENT
BEGIN:VEVENT
DTSTART;TZID=UTC:20210802T190000
DTEND;TZID=UTC:20210802T190000
DTSTAMP:20260423T201229
CREATED:20210719T140422Z
LAST-MODIFIED:20210719T140422Z
UID:245-1627930800-1627930800@whiskeygirlssaloon.com
SUMMARY:Pool Tournament
DESCRIPTION:
URL:https://whiskeygirlssaloon.com/event/pool-tournament-3/
END:VEVENT
BEGIN:VEVENT
DTSTART;TZID=UTC:20210802T190000
DTEND;TZID=UTC:20210802T190000
DTSTAMP:20260423T201229
CREATED:20210719T140140Z
LAST-MODIFIED:20210719T140140Z
UID:235-1627930800-1627930800@whiskeygirlssaloon.com
SUMMARY:S.I.N. Night
DESCRIPTION:
URL:https://whiskeygirlssaloon.com/event/s-i-n-night-3/
END:VEVENT
BEGIN:VEVENT
DTSTART;TZID=UTC:20210802T190000
DTEND;TZID=UTC:20210802T190000
DTSTAMP:20260423T201229
CREATED:20210719T014925Z
LAST-MODIFIED:20210719T015104Z
UID:200-1627930800-1627930800@whiskeygirlssaloon.com
SUMMARY:Open Mic
DESCRIPTION:
URL:https://whiskeygirlssaloon.com/event/open-mic-2/
END:VEVENT
BEGIN:VEVENT
DTSTART;TZID=UTC:20210801T140000
DTEND;TZID=UTC:20210801T170000
DTSTAMP:20260423T201229
CREATED:20210719T014746Z
LAST-MODIFIED:20210719T014746Z
UID:190-1627826400-1627837200@whiskeygirlssaloon.com
SUMMARY:Live Acoustic Set
DESCRIPTION:
URL:https://whiskeygirlssaloon.com/event/live-acoustic-set-2/
END:VEVENT
BEGIN:VEVENT
DTSTART;TZID=UTC:20210801T120000
DTEND;TZID=UTC:20210801T170000
DTSTAMP:20260423T201229
CREATED:20210719T014600Z
LAST-MODIFIED:20210719T014600Z
UID:180-1627819200-1627837200@whiskeygirlssaloon.com
SUMMARY:Bloody Mary Bar & $3 Mimosas
DESCRIPTION:
URL:https://whiskeygirlssaloon.com/event/bloody-mary-bar-3-mimosas-2/
END:VEVENT
BEGIN:VEVENT
DTSTART;TZID=UTC:20210731T210000
DTEND;TZID=UTC:20210731T210000
DTSTAMP:20260423T201229
CREATED:20210719T013950Z
LAST-MODIFIED:20210719T013950Z
UID:162-1627765200-1627765200@whiskeygirlssaloon.com
SUMMARY:Michael Ingalls
DESCRIPTION:Live Music!
URL:https://whiskeygirlssaloon.com/event/michael-ingalls/
END:VEVENT
BEGIN:VEVENT
DTSTART;TZID=UTC:20210730T210000
DTEND;TZID=UTC:20210730T210000
DTSTAMP:20260423T201229
CREATED:20210719T013927Z
LAST-MODIFIED:20210719T013927Z
UID:160-1627678800-1627678800@whiskeygirlssaloon.com
SUMMARY:Whitestone
DESCRIPTION:Live Music!
URL:https://whiskeygirlssaloon.com/event/whitestone/
END:VEVENT
BEGIN:VEVENT
DTSTART;TZID=UTC:20210729T190000
DTEND;TZID=UTC:20210729T190000
DTSTAMP:20260423T201229
CREATED:20210719T015832Z
LAST-MODIFIED:20210719T015832Z
UID:216-1627585200-1627585200@whiskeygirlssaloon.com
SUMMARY:Kontenders Poker
DESCRIPTION:
URL:https://whiskeygirlssaloon.com/event/kontenders-poker-4/
END:VEVENT
BEGIN:VEVENT
DTSTART;TZID=UTC:20210728T190000
DTEND;TZID=UTC:20210728T230000
DTSTAMP:20260423T201229
CREATED:20210719T015906Z
LAST-MODIFIED:20210719T015906Z
UID:218-1627498800-1627513200@whiskeygirlssaloon.com
SUMMARY:Karaoke
DESCRIPTION:
URL:https://whiskeygirlssaloon.com/event/karaoke-2/
END:VEVENT
BEGIN:VEVENT
DTSTART;VALUE=DATE:20210728
DTEND;VALUE=DATE:20210729
DTSTAMP:20260423T201229
CREATED:20210719T015938Z
LAST-MODIFIED:20210719T020349Z
UID:220-1627430400-1627516799@whiskeygirlssaloon.com
SUMMARY:All Day Happy Hour
DESCRIPTION:
URL:https://whiskeygirlssaloon.com/event/all-day-happy-hour-2/
END:VEVENT
BEGIN:VEVENT
DTSTART;TZID=UTC:20210726T190000
DTEND;TZID=UTC:20210726T190000
DTSTAMP:20260423T201229
CREATED:20210719T020545Z
LAST-MODIFIED:20210719T020545Z
UID:233-1627326000-1627326000@whiskeygirlssaloon.com
SUMMARY:Pool Tournament
DESCRIPTION:
URL:https://whiskeygirlssaloon.com/event/pool-tournament-2/
END:VEVENT
BEGIN:VEVENT
DTSTART;VALUE=DATE:20210721
DTEND;VALUE=DATE:20210722
DTSTAMP:20260423T201229
CREATED:20210719T013422Z
LAST-MODIFIED:20210719T020409Z
UID:148-1626825600-1626911999@whiskeygirlssaloon.com
SUMMARY:All Day Happy Hour
DESCRIPTION:
URL:https://whiskeygirlssaloon.com/event/all-day-happy-hour/
END:VEVENT
BEGIN:VEVENT
DTSTART;TZID=UTC:20210720T190000
DTEND;TZID=UTC:20210720T190000
DTSTAMP:20260423T201229
CREATED:20210719T013314Z
LAST-MODIFIED:20210719T015757Z
UID:144-1626807600-1626807600@whiskeygirlssaloon.com
SUMMARY:Kontenders Poker
DESCRIPTION:
URL:https://whiskeygirlssaloon.com/event/kontenders-poker/
END:VEVENT
BEGIN:VEVENT
DTSTART;TZID=UTC:20210719T190000
DTEND;TZID=UTC:20210719T190000
DTSTAMP:20260423T201229
CREATED:20210719T013246Z
LAST-MODIFIED:20210719T015720Z
UID:142-1626721200-1626721200@whiskeygirlssaloon.com
SUMMARY:Pool Tournament
DESCRIPTION:
URL:https://whiskeygirlssaloon.com/event/pool-tournament/
END:VEVENT
BEGIN:VEVENT
DTSTART;TZID=UTC:20210719T190000
DTEND;TZID=UTC:20210719T190000
DTSTAMP:20260423T201229
CREATED:20210719T013147Z
LAST-MODIFIED:20210719T015705Z
UID:140-1626721200-1626721200@whiskeygirlssaloon.com
SUMMARY:S.I.N. Night
DESCRIPTION:
URL:https://whiskeygirlssaloon.com/event/s-i-n-night/
END:VEVENT
BEGIN:VEVENT
DTSTART;TZID=UTC:20210719T190000
DTEND;TZID=UTC:20210719T190000
DTSTAMP:20260423T201229
CREATED:20210719T013117Z
LAST-MODIFIED:20210719T015641Z
UID:138-1626721200-1626721200@whiskeygirlssaloon.com
SUMMARY:Open Mic
DESCRIPTION:
URL:https://whiskeygirlssaloon.com/event/open-mic/
END:VEVENT
END:VCALENDAR