BEGIN:VCALENDAR
VERSION:2.0
PRODID:-//The Whiskey Girls Saloon - ECPv6.15.20//NONSGML v1.0//EN
CALSCALE:GREGORIAN
METHOD:PUBLISH
X-WR-CALNAME:The Whiskey Girls Saloon
X-ORIGINAL-URL:https://whiskeygirlssaloon.com
X-WR-CALDESC:Events for The Whiskey Girls Saloon
REFRESH-INTERVAL;VALUE=DURATION:PT1H
X-Robots-Tag:noindex
X-PUBLISHED-TTL:PT1H
BEGIN:VTIMEZONE
TZID:UTC
BEGIN:STANDARD
TZOFFSETFROM:+0000
TZOFFSETTO:+0000
TZNAME:UTC
DTSTART:20200101T000000
END:STANDARD
END:VTIMEZONE
BEGIN:VEVENT
DTSTART;TZID=UTC:20211013T140000
DTEND;TZID=UTC:20211013T235900
DTSTAMP:20260423T105733
CREATED:20211004T210320Z
LAST-MODIFIED:20211004T212339Z
UID:353-1634133600-1634169540@whiskeygirlssaloon.com
SUMMARY:All Day Happy Hour
DESCRIPTION:Happy Hour prices – all day\, every Wednesday
URL:https://whiskeygirlssaloon.com/event/all-day-happy-hour-8/
END:VEVENT
BEGIN:VEVENT
DTSTART;TZID=UTC:20211012T190000
DTEND;TZID=UTC:20211012T190000
DTSTAMP:20260423T105733
CREATED:20211004T205504Z
LAST-MODIFIED:20211004T205504Z
UID:337-1634065200-1634065200@whiskeygirlssaloon.com
SUMMARY:Kontenders Poker
DESCRIPTION:
URL:https://whiskeygirlssaloon.com/event/kontenders-poker-15/
END:VEVENT
BEGIN:VEVENT
DTSTART;TZID=UTC:20211011T140000
DTEND;TZID=UTC:20211011T235900
DTSTAMP:20260423T105733
CREATED:20211004T205143Z
LAST-MODIFIED:20211004T211819Z
UID:329-1633960800-1633996740@whiskeygirlssaloon.com
SUMMARY:Monday Shenanigans
DESCRIPTION:S.I.N. – all day\, Open Mic Nite – 7pm\, Pool Tournament – 7:30pm
URL:https://whiskeygirlssaloon.com/event/monday-events-2/
END:VEVENT
BEGIN:VEVENT
DTSTART;TZID=UTC:20211011T140000
DTEND;TZID=UTC:20211011T190000
DTSTAMP:20260423T105733
CREATED:20211004T204002Z
LAST-MODIFIED:20211004T204002Z
UID:313-1633960800-1633978800@whiskeygirlssaloon.com
SUMMARY:Margarita Mondays
DESCRIPTION:Handcrafted margaritas!
URL:https://whiskeygirlssaloon.com/event/margarita-mondays-2/
END:VEVENT
BEGIN:VEVENT
DTSTART;TZID=UTC:20211010T120000
DTEND;TZID=UTC:20211010T120000
DTSTAMP:20260423T105733
CREATED:20211004T204217Z
LAST-MODIFIED:20211004T225540Z
UID:319-1633867200-1633867200@whiskeygirlssaloon.com
SUMMARY:NFL Sunday Ticket
DESCRIPTION:Every game\, every Sunday.\nTexans @ noon.\nCowboys @ 3:25pm.
URL:https://whiskeygirlssaloon.com/event/nfl-sunday-ticket/
END:VEVENT
BEGIN:VEVENT
DTSTART;TZID=UTC:20211009T210000
DTEND;TZID=UTC:20211009T210000
DTSTAMP:20260423T105733
CREATED:20211004T200338Z
LAST-MODIFIED:20211004T202126Z
UID:286-1633813200-1633813200@whiskeygirlssaloon.com
SUMMARY:Iron Sight
DESCRIPTION:
URL:https://whiskeygirlssaloon.com/event/iron-sight/
END:VEVENT
BEGIN:VEVENT
DTSTART;TZID=UTC:20211009T100000
DTEND;TZID=UTC:20211009T100000
DTSTAMP:20260423T105733
CREATED:20211004T203244Z
LAST-MODIFIED:20211004T215840Z
UID:306-1633773600-1633773600@whiskeygirlssaloon.com
SUMMARY:UT vs OU!
DESCRIPTION:Opening at 10am for the Red River Showdown! We’ll have $3 bloody marys\, mimosas\, and screwdrivers from 10am-2pm! Wear your spirit colors!
URL:https://whiskeygirlssaloon.com/event/ut-vs-ou-party/
END:VEVENT
BEGIN:VEVENT
DTSTART;TZID=UTC:20211008T210000
DTEND;TZID=UTC:20211008T210000
DTSTAMP:20260423T105733
CREATED:20211004T201312Z
LAST-MODIFIED:20211004T211210Z
UID:297-1633726800-1633726800@whiskeygirlssaloon.com
SUMMARY:Blind Innocence
DESCRIPTION:live music
URL:https://whiskeygirlssaloon.com/event/blind-innocence/
END:VEVENT
BEGIN:VEVENT
DTSTART;TZID=UTC:20211007T190000
DTEND;TZID=UTC:20211007T190000
DTSTAMP:20260423T105733
CREATED:20211004T210729Z
LAST-MODIFIED:20211004T210729Z
UID:362-1633633200-1633633200@whiskeygirlssaloon.com
SUMMARY:Kontenders Poker
DESCRIPTION:
URL:https://whiskeygirlssaloon.com/event/kontenders-poker-18/
END:VEVENT
BEGIN:VEVENT
DTSTART;TZID=UTC:20211006T190000
DTEND;TZID=UTC:20211006T190000
DTSTAMP:20260423T105733
CREATED:20211004T205728Z
LAST-MODIFIED:20211004T205728Z
UID:343-1633546800-1633546800@whiskeygirlssaloon.com
SUMMARY:Karaoke Night!
DESCRIPTION:DJ Daddy Ray hosts karaoke every Wednesday Night
URL:https://whiskeygirlssaloon.com/event/karaoke-night/
END:VEVENT
BEGIN:VEVENT
DTSTART;TZID=UTC:20211006T140000
DTEND;TZID=UTC:20211006T235900
DTSTAMP:20260423T105733
CREATED:20211004T210234Z
LAST-MODIFIED:20211004T212518Z
UID:351-1633528800-1633564740@whiskeygirlssaloon.com
SUMMARY:All Day Happy Hour
DESCRIPTION:Happy Hour prices – all day\, every Wednesday
URL:https://whiskeygirlssaloon.com/event/all-day-happy-hour-7/
END:VEVENT
BEGIN:VEVENT
DTSTART;TZID=UTC:20211005T190000
DTEND;TZID=UTC:20211005T190000
DTSTAMP:20260423T105733
CREATED:20211004T205430Z
LAST-MODIFIED:20211004T205430Z
UID:335-1633460400-1633460400@whiskeygirlssaloon.com
SUMMARY:Kontenders Poker
DESCRIPTION:
URL:https://whiskeygirlssaloon.com/event/kontenders-poker-14/
END:VEVENT
BEGIN:VEVENT
DTSTART;TZID=UTC:20211004T140000
DTEND;TZID=UTC:20211004T235900
DTSTAMP:20260423T105733
CREATED:20211004T205119Z
LAST-MODIFIED:20211004T212056Z
UID:327-1633356000-1633391940@whiskeygirlssaloon.com
SUMMARY:Monday Shenanigans
DESCRIPTION:S.I.N. – all day\, Open Mic Nite – 7pm\, Pool Tournament – 7:30pm
URL:https://whiskeygirlssaloon.com/event/monday-events/
END:VEVENT
BEGIN:VEVENT
DTSTART;TZID=UTC:20211004T140000
DTEND;TZID=UTC:20211004T190000
DTSTAMP:20260423T105733
CREATED:20211004T203912Z
LAST-MODIFIED:20211004T203912Z
UID:311-1633356000-1633374000@whiskeygirlssaloon.com
SUMMARY:Margarita Mondays
DESCRIPTION:2pm – 7pm only – handcrafted margaritas!
URL:https://whiskeygirlssaloon.com/event/margarita-mondays/
END:VEVENT
BEGIN:VEVENT
DTSTART;TZID=UTC:20210831T190000
DTEND;TZID=UTC:20210831T190000
DTSTAMP:20260423T105733
CREATED:20210719T140843Z
LAST-MODIFIED:20210719T140843Z
UID:267-1630436400-1630436400@whiskeygirlssaloon.com
SUMMARY:Kontenders Poker
DESCRIPTION:
URL:https://whiskeygirlssaloon.com/event/kontenders-poker-13/
END:VEVENT
BEGIN:VEVENT
DTSTART;TZID=UTC:20210830T190000
DTEND;TZID=UTC:20210830T190000
DTSTAMP:20260423T105733
CREATED:20210719T140507Z
LAST-MODIFIED:20210719T140507Z
UID:251-1630350000-1630350000@whiskeygirlssaloon.com
SUMMARY:Pool Tournament
DESCRIPTION:
URL:https://whiskeygirlssaloon.com/event/pool-tournament-6/
END:VEVENT
BEGIN:VEVENT
DTSTART;TZID=UTC:20210830T190000
DTEND;TZID=UTC:20210830T190000
DTSTAMP:20260423T105733
CREATED:20210719T140304Z
LAST-MODIFIED:20210719T140304Z
UID:241-1630350000-1630350000@whiskeygirlssaloon.com
SUMMARY:S.I.N. Night
DESCRIPTION:
URL:https://whiskeygirlssaloon.com/event/s-i-n-night-6/
END:VEVENT
BEGIN:VEVENT
DTSTART;TZID=UTC:20210830T190000
DTEND;TZID=UTC:20210830T190000
DTSTAMP:20260423T105733
CREATED:20210719T015426Z
LAST-MODIFIED:20210719T015426Z
UID:210-1630350000-1630350000@whiskeygirlssaloon.com
SUMMARY:Open Mic
DESCRIPTION:
URL:https://whiskeygirlssaloon.com/event/open-mic-6/
END:VEVENT
BEGIN:VEVENT
DTSTART;TZID=UTC:20210829T140000
DTEND;TZID=UTC:20210829T170000
DTSTAMP:20260423T105733
CREATED:20210719T014850Z
LAST-MODIFIED:20210719T014850Z
UID:198-1630245600-1630256400@whiskeygirlssaloon.com
SUMMARY:Live Acoustic Set
DESCRIPTION:
URL:https://whiskeygirlssaloon.com/event/live-acoustic-set-6/
END:VEVENT
BEGIN:VEVENT
DTSTART;TZID=UTC:20210829T120000
DTEND;TZID=UTC:20210829T170000
DTSTAMP:20260423T105733
CREATED:20210719T014712Z
LAST-MODIFIED:20210719T014712Z
UID:188-1630238400-1630256400@whiskeygirlssaloon.com
SUMMARY:Bloody Mary Bar & $3 Mimosas
DESCRIPTION:
URL:https://whiskeygirlssaloon.com/event/bloody-mary-bar-3-mimosas-6/
END:VEVENT
BEGIN:VEVENT
DTSTART;TZID=UTC:20210826T190000
DTEND;TZID=UTC:20210826T190000
DTSTAMP:20260423T105733
CREATED:20210719T140829Z
LAST-MODIFIED:20210719T140829Z
UID:265-1630004400-1630004400@whiskeygirlssaloon.com
SUMMARY:Kontenders Poker
DESCRIPTION:
URL:https://whiskeygirlssaloon.com/event/kontenders-poker-12/
END:VEVENT
BEGIN:VEVENT
DTSTART;TZID=UTC:20210825T190000
DTEND;TZID=UTC:20210825T230000
DTSTAMP:20260423T105733
CREATED:20210719T141328Z
LAST-MODIFIED:20210719T141328Z
UID:279-1629918000-1629932400@whiskeygirlssaloon.com
SUMMARY:Karaoke
DESCRIPTION:
URL:https://whiskeygirlssaloon.com/event/karaoke-6/
END:VEVENT
BEGIN:VEVENT
DTSTART;VALUE=DATE:20210825
DTEND;VALUE=DATE:20210826
DTSTAMP:20260423T105733
CREATED:20210719T141035Z
LAST-MODIFIED:20210719T141035Z
UID:273-1629849600-1629935999@whiskeygirlssaloon.com
SUMMARY:All Day Happy Hour
DESCRIPTION:
URL:https://whiskeygirlssaloon.com/event/all-day-happy-hour-6/
END:VEVENT
BEGIN:VEVENT
DTSTART;TZID=UTC:20210824T190000
DTEND;TZID=UTC:20210824T190000
DTSTAMP:20260423T105733
CREATED:20210719T140814Z
LAST-MODIFIED:20210719T140814Z
UID:263-1629831600-1629831600@whiskeygirlssaloon.com
SUMMARY:Kontenders Poker
DESCRIPTION:
URL:https://whiskeygirlssaloon.com/event/kontenders-poker-11/
END:VEVENT
BEGIN:VEVENT
DTSTART;TZID=UTC:20210823T190000
DTEND;TZID=UTC:20210823T190000
DTSTAMP:20260423T105733
CREATED:20210719T140531Z
LAST-MODIFIED:20210719T140531Z
UID:253-1629745200-1629745200@whiskeygirlssaloon.com
SUMMARY:Pool Tournament
DESCRIPTION:
URL:https://whiskeygirlssaloon.com/event/pool-tournament-7/
END:VEVENT
BEGIN:VEVENT
DTSTART;TZID=UTC:20210823T190000
DTEND;TZID=UTC:20210823T190000
DTSTAMP:20260423T105733
CREATED:20210719T140344Z
LAST-MODIFIED:20210719T140344Z
UID:243-1629745200-1629745200@whiskeygirlssaloon.com
SUMMARY:S.I.N. Night
DESCRIPTION:
URL:https://whiskeygirlssaloon.com/event/s-i-n-night-7/
END:VEVENT
BEGIN:VEVENT
DTSTART;TZID=UTC:20210823T190000
DTEND;TZID=UTC:20210823T190000
DTSTAMP:20260423T105733
CREATED:20210719T015352Z
LAST-MODIFIED:20210719T015352Z
UID:208-1629745200-1629745200@whiskeygirlssaloon.com
SUMMARY:Open Mic
DESCRIPTION:
URL:https://whiskeygirlssaloon.com/event/open-mic-5/
END:VEVENT
BEGIN:VEVENT
DTSTART;TZID=UTC:20210822T140000
DTEND;TZID=UTC:20210822T170000
DTSTAMP:20260423T105733
CREATED:20210719T014837Z
LAST-MODIFIED:20210719T014837Z
UID:196-1629640800-1629651600@whiskeygirlssaloon.com
SUMMARY:Live Acoustic Set
DESCRIPTION:
URL:https://whiskeygirlssaloon.com/event/live-acoustic-set-5/
END:VEVENT
BEGIN:VEVENT
DTSTART;TZID=UTC:20210822T120000
DTEND;TZID=UTC:20210822T170000
DTSTAMP:20260423T105733
CREATED:20210719T014656Z
LAST-MODIFIED:20210719T014656Z
UID:186-1629633600-1629651600@whiskeygirlssaloon.com
SUMMARY:Bloody Mary Bar & $3 Mimosas
DESCRIPTION:
URL:https://whiskeygirlssaloon.com/event/bloody-mary-bar-3-mimosas-5/
END:VEVENT
BEGIN:VEVENT
DTSTART;TZID=UTC:20210821T210000
DTEND;TZID=UTC:20210821T210000
DTSTAMP:20260423T105733
CREATED:20210719T014310Z
LAST-MODIFIED:20210719T014310Z
UID:174-1629579600-1629579600@whiskeygirlssaloon.com
SUMMARY:Tumbleweed Hill
DESCRIPTION:Live Music!
URL:https://whiskeygirlssaloon.com/event/tumbleweed-hill/
END:VEVENT
END:VCALENDAR