BEGIN:VCALENDAR
VERSION:2.0
PRODID:-//The Whiskey Girls Saloon - ECPv6.15.20//NONSGML v1.0//EN
CALSCALE:GREGORIAN
METHOD:PUBLISH
X-WR-CALNAME:The Whiskey Girls Saloon
X-ORIGINAL-URL:https://whiskeygirlssaloon.com
X-WR-CALDESC:Events for The Whiskey Girls Saloon
REFRESH-INTERVAL;VALUE=DURATION:PT1H
X-Robots-Tag:noindex
X-PUBLISHED-TTL:PT1H
BEGIN:VTIMEZONE
TZID:UTC
BEGIN:STANDARD
TZOFFSETFROM:+0000
TZOFFSETTO:+0000
TZNAME:UTC
DTSTART:20200101T000000
END:STANDARD
END:VTIMEZONE
BEGIN:VTIMEZONE
TZID:America/Mexico_City
BEGIN:DAYLIGHT
TZOFFSETFROM:-0600
TZOFFSETTO:-0500
TZNAME:CDT
DTSTART:20200405T080000
END:DAYLIGHT
BEGIN:STANDARD
TZOFFSETFROM:-0500
TZOFFSETTO:-0600
TZNAME:CST
DTSTART:20201025T070000
END:STANDARD
BEGIN:DAYLIGHT
TZOFFSETFROM:-0600
TZOFFSETTO:-0500
TZNAME:CDT
DTSTART:20210404T080000
END:DAYLIGHT
BEGIN:STANDARD
TZOFFSETFROM:-0500
TZOFFSETTO:-0600
TZNAME:CST
DTSTART:20211031T070000
END:STANDARD
BEGIN:DAYLIGHT
TZOFFSETFROM:-0600
TZOFFSETTO:-0500
TZNAME:CDT
DTSTART:20220403T080000
END:DAYLIGHT
BEGIN:STANDARD
TZOFFSETFROM:-0500
TZOFFSETTO:-0600
TZNAME:CST
DTSTART:20221030T070000
END:STANDARD
END:VTIMEZONE
BEGIN:VEVENT
DTSTART;TZID=UTC:20211103T140000
DTEND;TZID=UTC:20211103T140000
DTSTAMP:20260423T022011
CREATED:20211004T224841Z
LAST-MODIFIED:20211004T224841Z
UID:477-1635948000-1635948000@whiskeygirlssaloon.com
SUMMARY:All Day Happy Hour
DESCRIPTION:Happy Hour prices – all day\, every Wednesday
URL:https://whiskeygirlssaloon.com/event/all-day-happy-hour-10/
END:VEVENT
BEGIN:VEVENT
DTSTART;TZID=UTC:20211102T190000
DTEND;TZID=UTC:20211102T190000
DTSTAMP:20260423T022011
CREATED:20211004T223354Z
LAST-MODIFIED:20211004T223354Z
UID:449-1635879600-1635879600@whiskeygirlssaloon.com
SUMMARY:Kontenders Poker
DESCRIPTION:
URL:https://whiskeygirlssaloon.com/event/kontenders-poker-22/
END:VEVENT
BEGIN:VEVENT
DTSTART;TZID=UTC:20211101T140000
DTEND;TZID=UTC:20211101T235900
DTSTAMP:20260423T022011
CREATED:20211004T230528Z
LAST-MODIFIED:20211004T230528Z
UID:498-1635775200-1635811140@whiskeygirlssaloon.com
SUMMARY:Monday Shenanigans
DESCRIPTION:S.I.N. – all day\, Open Mic Nite – 7pm\, Pool Tournament – 7:30pm
URL:https://whiskeygirlssaloon.com/event/monday-shenanigans/
END:VEVENT
BEGIN:VEVENT
DTSTART;TZID=UTC:20211101T140000
DTEND;TZID=UTC:20211101T190000
DTSTAMP:20260423T022011
CREATED:20211004T225817Z
LAST-MODIFIED:20211004T225817Z
UID:488-1635775200-1635793200@whiskeygirlssaloon.com
SUMMARY:Margarita Mondays
DESCRIPTION:2pm – 7pm only – handcrafted margaritas!
URL:https://whiskeygirlssaloon.com/event/margarita-mondays-5/
END:VEVENT
BEGIN:VEVENT
DTSTART;TZID=UTC:20211031T120000
DTEND;TZID=UTC:20211031T120000
DTSTAMP:20260423T022011
CREATED:20211004T204429Z
LAST-MODIFIED:20211004T204429Z
UID:325-1635681600-1635681600@whiskeygirlssaloon.com
SUMMARY:NFL Sunday Ticket
DESCRIPTION:Every game\, every Sunday.
URL:https://whiskeygirlssaloon.com/event/nfl-sunday-ticket-4/
END:VEVENT
BEGIN:VEVENT
DTSTART;TZID=UTC:20211030T210000
DTEND;TZID=UTC:20211030T210000
DTSTAMP:20260423T022011
CREATED:20211004T203325Z
LAST-MODIFIED:20211004T203325Z
UID:308-1635627600-1635627600@whiskeygirlssaloon.com
SUMMARY:X Factory
DESCRIPTION:live music
URL:https://whiskeygirlssaloon.com/event/x-factory/
END:VEVENT
BEGIN:VEVENT
DTSTART;TZID=America/Mexico_City:20211029T210000
DTEND;TZID=America/Mexico_City:20211029T210000
DTSTAMP:20260423T022011
CREATED:20211004T195605Z
LAST-MODIFIED:20211004T220019Z
UID:283-1635541200-1635541200@whiskeygirlssaloon.com
SUMMARY:Halloween Party and 1st Anniversary
DESCRIPTION:Live music by Hit & Run\, costume contest\, and big prizes all night long!
URL:https://whiskeygirlssaloon.com/event/halloween-party/
END:VEVENT
BEGIN:VEVENT
DTSTART;TZID=UTC:20211028T190000
DTEND;TZID=UTC:20211028T190000
DTSTAMP:20260423T022011
CREATED:20211004T210828Z
LAST-MODIFIED:20211004T210828Z
UID:366-1635447600-1635447600@whiskeygirlssaloon.com
SUMMARY:Kontenders Poker
DESCRIPTION:
URL:https://whiskeygirlssaloon.com/event/kontenders-poker-20/
END:VEVENT
BEGIN:VEVENT
DTSTART;TZID=UTC:20211027T190000
DTEND;TZID=UTC:20211027T190000
DTSTAMP:20260423T022011
CREATED:20211004T210101Z
LAST-MODIFIED:20211004T210101Z
UID:349-1635361200-1635361200@whiskeygirlssaloon.com
SUMMARY:Karaoke Night!
DESCRIPTION:DJ Daddy Ray hosts karaoke every Wednesday Night!
URL:https://whiskeygirlssaloon.com/event/karaoke-night-4/
END:VEVENT
BEGIN:VEVENT
DTSTART;TZID=UTC:20211027T140000
DTEND;TZID=UTC:20211027T235900
DTSTAMP:20260423T022011
CREATED:20211004T210400Z
LAST-MODIFIED:20211004T212210Z
UID:355-1635343200-1635379140@whiskeygirlssaloon.com
SUMMARY:All Day Happy Hour
DESCRIPTION:Happy Hour prices – all day\, every Wednesday
URL:https://whiskeygirlssaloon.com/event/all-day-happy-hour-9/
END:VEVENT
BEGIN:VEVENT
DTSTART;TZID=UTC:20211026T190000
DTEND;TZID=UTC:20211026T190000
DTSTAMP:20260423T022011
CREATED:20211004T205608Z
LAST-MODIFIED:20211004T205608Z
UID:341-1635274800-1635274800@whiskeygirlssaloon.com
SUMMARY:Kontenders Poker
DESCRIPTION:
URL:https://whiskeygirlssaloon.com/event/kontenders-poker-17/
END:VEVENT
BEGIN:VEVENT
DTSTART;TZID=UTC:20211025T140000
DTEND;TZID=UTC:20211025T235900
DTSTAMP:20260423T022011
CREATED:20211004T205302Z
LAST-MODIFIED:20211004T211916Z
UID:333-1635170400-1635206340@whiskeygirlssaloon.com
SUMMARY:Monday Shenanigans
DESCRIPTION:S.I.N. – all day\, Open Mic Nite – 7pm\, Pool Tournament – 7:30pm
URL:https://whiskeygirlssaloon.com/event/monday-events-4/
END:VEVENT
BEGIN:VEVENT
DTSTART;TZID=UTC:20211025T140000
DTEND;TZID=UTC:20211025T190000
DTSTAMP:20260423T022011
CREATED:20211004T204136Z
LAST-MODIFIED:20211004T204136Z
UID:317-1635170400-1635188400@whiskeygirlssaloon.com
SUMMARY:Margarita Mondays
DESCRIPTION:Handcrafted margaritas!
URL:https://whiskeygirlssaloon.com/event/margarita-mondays-4/
END:VEVENT
BEGIN:VEVENT
DTSTART;TZID=UTC:20211024T120000
DTEND;TZID=UTC:20211024T120000
DTSTAMP:20260423T022011
CREATED:20211004T204344Z
LAST-MODIFIED:20211004T225336Z
UID:323-1635076800-1635076800@whiskeygirlssaloon.com
SUMMARY:NFL Sunday Ticket
DESCRIPTION:Every game\, every Sunday.\nTexans @ 3:25pm.
URL:https://whiskeygirlssaloon.com/event/nfl-sunday-ticket-3/
END:VEVENT
BEGIN:VEVENT
DTSTART;TZID=UTC:20211023T210000
DTEND;TZID=UTC:20211023T210000
DTSTAMP:20260423T022011
CREATED:20211004T201032Z
LAST-MODIFIED:20211004T211237Z
UID:295-1635022800-1635022800@whiskeygirlssaloon.com
SUMMARY:Mike Ingalls
DESCRIPTION:live music
URL:https://whiskeygirlssaloon.com/event/mike-ingalls/
END:VEVENT
BEGIN:VEVENT
DTSTART;TZID=UTC:20211022T210000
DTEND;TZID=UTC:20211022T210000
DTSTAMP:20260423T022011
CREATED:20211004T200906Z
LAST-MODIFIED:20211004T213553Z
UID:293-1634936400-1634936400@whiskeygirlssaloon.com
SUMMARY:Modisette & Son Fall Concert Series
DESCRIPTION:Live music featuring Mason Lively
URL:https://whiskeygirlssaloon.com/event/modisette-son-fall-concert-series-featuring-mason-lively/
END:VEVENT
BEGIN:VEVENT
DTSTART;TZID=UTC:20211021T190000
DTEND;TZID=UTC:20211021T190000
DTSTAMP:20260423T022011
CREATED:20211004T210904Z
LAST-MODIFIED:20211004T210904Z
UID:368-1634842800-1634842800@whiskeygirlssaloon.com
SUMMARY:Kontenders Poker
DESCRIPTION:
URL:https://whiskeygirlssaloon.com/event/kontenders-poker-21/
END:VEVENT
BEGIN:VEVENT
DTSTART;TZID=UTC:20211020T190000
DTEND;TZID=UTC:20211020T190000
DTSTAMP:20260423T022011
CREATED:20211004T210005Z
LAST-MODIFIED:20211004T210005Z
UID:347-1634756400-1634756400@whiskeygirlssaloon.com
SUMMARY:Karaoke Night!
DESCRIPTION:DJ Daddy Ray hosts karaoke every Wednesday Night
URL:https://whiskeygirlssaloon.com/event/karaoke-night-3/
END:VEVENT
BEGIN:VEVENT
DTSTART;TZID=UTC:20211020T140000
DTEND;TZID=UTC:20211020T235900
DTSTAMP:20260423T022011
CREATED:20211004T210442Z
LAST-MODIFIED:20211004T212310Z
UID:357-1634738400-1634774340@whiskeygirlssaloon.com
SUMMARY:All Day Happy Hour
DESCRIPTION:Happy Hour prices – all day\, every Wednesday
URL:https://whiskeygirlssaloon.com/event/happy-hour/
END:VEVENT
BEGIN:VEVENT
DTSTART;TZID=UTC:20211019T190000
DTEND;TZID=UTC:20211019T190000
DTSTAMP:20260423T022011
CREATED:20211004T205537Z
LAST-MODIFIED:20211004T205537Z
UID:339-1634670000-1634670000@whiskeygirlssaloon.com
SUMMARY:Kontenders Poker
DESCRIPTION:
URL:https://whiskeygirlssaloon.com/event/kontenders-poker-16/
END:VEVENT
BEGIN:VEVENT
DTSTART;TZID=UTC:20211018T140000
DTEND;TZID=UTC:20211018T235900
DTSTAMP:20260423T022011
CREATED:20211004T205202Z
LAST-MODIFIED:20211004T212003Z
UID:331-1634565600-1634601540@whiskeygirlssaloon.com
SUMMARY:Monday Shenanigans
DESCRIPTION:S.I.N. – all day\, Open Mic Nite – 7pm\, Pool Tournament – 7:30pm
URL:https://whiskeygirlssaloon.com/event/monday-events-3/
END:VEVENT
BEGIN:VEVENT
DTSTART;TZID=UTC:20211018T140000
DTEND;TZID=UTC:20211018T190000
DTSTAMP:20260423T022011
CREATED:20211004T204045Z
LAST-MODIFIED:20211004T204045Z
UID:315-1634565600-1634583600@whiskeygirlssaloon.com
SUMMARY:Margarita Mondays
DESCRIPTION:Handcrafted margaritas!
URL:https://whiskeygirlssaloon.com/event/margarita-mondays-3/
END:VEVENT
BEGIN:VEVENT
DTSTART;TZID=UTC:20211017T120000
DTEND;TZID=UTC:20211017T120000
DTSTAMP:20260423T022011
CREATED:20211004T204256Z
LAST-MODIFIED:20211004T225427Z
UID:321-1634472000-1634472000@whiskeygirlssaloon.com
SUMMARY:NFL Sunday Ticket
DESCRIPTION:Every game\, every Sunday.\nCowboys @ noon.\nTexans @ noon. \n 
URL:https://whiskeygirlssaloon.com/event/nfl-sunday-ticket-2/
END:VEVENT
BEGIN:VEVENT
DTSTART;TZID=UTC:20211015T210000
DTEND;TZID=UTC:20211015T210000
DTSTAMP:20260423T022011
CREATED:20211004T200528Z
LAST-MODIFIED:20211004T211408Z
UID:288-1634331600-1634331600@whiskeygirlssaloon.com
SUMMARY:Jason Kane White
DESCRIPTION:live music
URL:https://whiskeygirlssaloon.com/event/jason-kane-white-2/
END:VEVENT
BEGIN:VEVENT
DTSTART;TZID=UTC:20211014T190000
DTEND;TZID=UTC:20211014T190000
DTSTAMP:20260423T022011
CREATED:20211004T210758Z
LAST-MODIFIED:20211004T210758Z
UID:364-1634238000-1634238000@whiskeygirlssaloon.com
SUMMARY:Kontenders Poker
DESCRIPTION:
URL:https://whiskeygirlssaloon.com/event/kontenders-poker-19/
END:VEVENT
BEGIN:VEVENT
DTSTART;TZID=UTC:20211013T190000
DTEND;TZID=UTC:20211013T190000
DTSTAMP:20260423T022011
CREATED:20211004T205838Z
LAST-MODIFIED:20211004T205838Z
UID:345-1634151600-1634151600@whiskeygirlssaloon.com
SUMMARY:Karaoke Night!
DESCRIPTION:DJ Daddy Ray hosts karaoke every Wednesday Night
URL:https://whiskeygirlssaloon.com/event/karaoke-night-2/
END:VEVENT
BEGIN:VEVENT
DTSTART;TZID=UTC:20211013T140000
DTEND;TZID=UTC:20211013T235900
DTSTAMP:20260423T022011
CREATED:20211004T210320Z
LAST-MODIFIED:20211004T212339Z
UID:353-1634133600-1634169540@whiskeygirlssaloon.com
SUMMARY:All Day Happy Hour
DESCRIPTION:Happy Hour prices – all day\, every Wednesday
URL:https://whiskeygirlssaloon.com/event/all-day-happy-hour-8/
END:VEVENT
BEGIN:VEVENT
DTSTART;TZID=UTC:20211012T190000
DTEND;TZID=UTC:20211012T190000
DTSTAMP:20260423T022011
CREATED:20211004T205504Z
LAST-MODIFIED:20211004T205504Z
UID:337-1634065200-1634065200@whiskeygirlssaloon.com
SUMMARY:Kontenders Poker
DESCRIPTION:
URL:https://whiskeygirlssaloon.com/event/kontenders-poker-15/
END:VEVENT
BEGIN:VEVENT
DTSTART;TZID=UTC:20211011T140000
DTEND;TZID=UTC:20211011T235900
DTSTAMP:20260423T022011
CREATED:20211004T205143Z
LAST-MODIFIED:20211004T211819Z
UID:329-1633960800-1633996740@whiskeygirlssaloon.com
SUMMARY:Monday Shenanigans
DESCRIPTION:S.I.N. – all day\, Open Mic Nite – 7pm\, Pool Tournament – 7:30pm
URL:https://whiskeygirlssaloon.com/event/monday-events-2/
END:VEVENT
BEGIN:VEVENT
DTSTART;TZID=UTC:20211011T140000
DTEND;TZID=UTC:20211011T190000
DTSTAMP:20260423T022011
CREATED:20211004T204002Z
LAST-MODIFIED:20211004T204002Z
UID:313-1633960800-1633978800@whiskeygirlssaloon.com
SUMMARY:Margarita Mondays
DESCRIPTION:Handcrafted margaritas!
URL:https://whiskeygirlssaloon.com/event/margarita-mondays-2/
END:VEVENT
END:VCALENDAR