BEGIN:VCALENDAR
VERSION:2.0
PRODID:-//The Whiskey Girls Saloon - ECPv6.15.20//NONSGML v1.0//EN
CALSCALE:GREGORIAN
METHOD:PUBLISH
X-WR-CALNAME:The Whiskey Girls Saloon
X-ORIGINAL-URL:https://whiskeygirlssaloon.com
X-WR-CALDESC:Events for The Whiskey Girls Saloon
REFRESH-INTERVAL;VALUE=DURATION:PT1H
X-Robots-Tag:noindex
X-PUBLISHED-TTL:PT1H
BEGIN:VTIMEZONE
TZID:UTC
BEGIN:STANDARD
TZOFFSETFROM:+0000
TZOFFSETTO:+0000
TZNAME:UTC
DTSTART:20200101T000000
END:STANDARD
END:VTIMEZONE
BEGIN:VEVENT
DTSTART;TZID=UTC:20211205T120000
DTEND;TZID=UTC:20211205T120000
DTSTAMP:20260423T030700
CREATED:20211004T222824Z
LAST-MODIFIED:20211004T222824Z
UID:441-1638705600-1638705600@whiskeygirlssaloon.com
SUMMARY:NFL Sunday Ticket
DESCRIPTION:Every game\, every Sunday.\nTexans @ noon.
URL:https://whiskeygirlssaloon.com/event/nfl-sunday-ticket-9/
END:VEVENT
BEGIN:VEVENT
DTSTART;TZID=UTC:20211204T210000
DTEND;TZID=UTC:20211204T210000
DTSTAMP:20260423T030700
CREATED:20211004T215443Z
LAST-MODIFIED:20211004T221236Z
UID:413-1638651600-1638651600@whiskeygirlssaloon.com
SUMMARY:Mike Ingalls
DESCRIPTION:live music
URL:https://whiskeygirlssaloon.com/event/mike-ingalls-2/
END:VEVENT
BEGIN:VEVENT
DTSTART;TZID=UTC:20211203T210000
DTEND;TZID=UTC:20211203T210000
DTSTAMP:20260423T030700
CREATED:20211004T214748Z
LAST-MODIFIED:20211202T055512Z
UID:409-1638565200-1638565200@whiskeygirlssaloon.com
SUMMARY:Scrubland Band
DESCRIPTION:live music
URL:https://whiskeygirlssaloon.com/event/whitestone-2/
END:VEVENT
BEGIN:VEVENT
DTSTART;TZID=UTC:20211130T190000
DTEND;TZID=UTC:20211130T190000
DTSTAMP:20260423T030700
CREATED:20211004T223855Z
LAST-MODIFIED:20211004T223855Z
UID:463-1638298800-1638298800@whiskeygirlssaloon.com
SUMMARY:Kontenders Poker
DESCRIPTION:
URL:https://whiskeygirlssaloon.com/event/kontenders-poker-29/
END:VEVENT
BEGIN:VEVENT
DTSTART;TZID=UTC:20211129T140000
DTEND;TZID=UTC:20211129T235900
DTSTAMP:20260423T030700
CREATED:20211004T230823Z
LAST-MODIFIED:20211004T230823Z
UID:506-1638194400-1638230340@whiskeygirlssaloon.com
SUMMARY:Monday Shenanigans
DESCRIPTION:S.I.N. – all day\, Open Mic Nite – 7pm\, Pool Tournament – 7:30pm
URL:https://whiskeygirlssaloon.com/event/monday-shenanigans-5/
END:VEVENT
BEGIN:VEVENT
DTSTART;TZID=UTC:20211128T120000
DTEND;TZID=UTC:20211128T120000
DTSTAMP:20260423T030700
CREATED:20211004T222319Z
LAST-MODIFIED:20211004T222319Z
UID:439-1638100800-1638100800@whiskeygirlssaloon.com
SUMMARY:NFL Sunday Ticket
DESCRIPTION:Every game\, every Sunday.\nTexans @ noon.
URL:https://whiskeygirlssaloon.com/event/nfl-sunday-ticket-8/
END:VEVENT
BEGIN:VEVENT
DTSTART;TZID=UTC:20211126T210000
DTEND;TZID=UTC:20211126T210000
DTSTAMP:20260423T030700
CREATED:20211004T214130Z
LAST-MODIFIED:20211004T221331Z
UID:406-1637960400-1637960400@whiskeygirlssaloon.com
SUMMARY:American Gypsy Band
DESCRIPTION:live music
URL:https://whiskeygirlssaloon.com/event/american-gypsy-band-2/
END:VEVENT
BEGIN:VEVENT
DTSTART;TZID=UTC:20211125T180000
DTEND;TZID=UTC:20211125T180000
DTSTAMP:20260423T030700
CREATED:20211004T214053Z
LAST-MODIFIED:20211004T222150Z
UID:404-1637863200-1637863200@whiskeygirlssaloon.com
SUMMARY:Thanksgiving Hours
DESCRIPTION:Limited hours so that our employees may spend the day with family.\nStay tuned for updates.
URL:https://whiskeygirlssaloon.com/event/thanksgiving/
END:VEVENT
BEGIN:VEVENT
DTSTART;TZID=UTC:20211124T190000
DTEND;TZID=UTC:20211124T190000
DTSTAMP:20260423T030700
CREATED:20211004T224356Z
LAST-MODIFIED:20211004T224727Z
UID:471-1637780400-1637780400@whiskeygirlssaloon.com
SUMMARY:Karaoke Night!
DESCRIPTION:DJ Daddy Ray hosts karaoke every Wednesday night
URL:https://whiskeygirlssaloon.com/event/karaoke-night-8/
END:VEVENT
BEGIN:VEVENT
DTSTART;TZID=UTC:20211124T140000
DTEND;TZID=UTC:20211124T140000
DTSTAMP:20260423T030700
CREATED:20211004T225124Z
LAST-MODIFIED:20211004T225124Z
UID:481-1637762400-1637762400@whiskeygirlssaloon.com
SUMMARY:All Day Happy Hour
DESCRIPTION:Happy Hour prices – all day\, every Wednesday
URL:https://whiskeygirlssaloon.com/event/all-day-happy-hour-12/
END:VEVENT
BEGIN:VEVENT
DTSTART;TZID=UTC:20211123T190000
DTEND;TZID=UTC:20211123T190000
DTSTAMP:20260423T030700
CREATED:20211004T223809Z
LAST-MODIFIED:20211004T223809Z
UID:461-1637694000-1637694000@whiskeygirlssaloon.com
SUMMARY:Kontenders Poker
DESCRIPTION:
URL:https://whiskeygirlssaloon.com/event/kontenders-poker-28/
END:VEVENT
BEGIN:VEVENT
DTSTART;TZID=UTC:20211122T140000
DTEND;TZID=UTC:20211122T235900
DTSTAMP:20260423T030700
CREATED:20211004T230750Z
LAST-MODIFIED:20211004T230750Z
UID:504-1637589600-1637625540@whiskeygirlssaloon.com
SUMMARY:Monday Shenanigans
DESCRIPTION:S.I.N. – all day\, Open Mic Nite – 7pm\, Pool Tournament – 7:30pm
URL:https://whiskeygirlssaloon.com/event/monday-shenanigans-4/
END:VEVENT
BEGIN:VEVENT
DTSTART;TZID=UTC:20211122T140000
DTEND;TZID=UTC:20211122T190000
DTSTAMP:20260423T030700
CREATED:20211004T230031Z
LAST-MODIFIED:20211004T230031Z
UID:494-1637589600-1637607600@whiskeygirlssaloon.com
SUMMARY:Margarita Mondays
DESCRIPTION:2pm – 7pm only – handcrafted margaritas!
URL:https://whiskeygirlssaloon.com/event/margarita-mondays-8/
END:VEVENT
BEGIN:VEVENT
DTSTART;TZID=UTC:20211121T120000
DTEND;TZID=UTC:20211121T120000
DTSTAMP:20260423T030700
CREATED:20211004T213855Z
LAST-MODIFIED:20211004T221357Z
UID:402-1637496000-1637496000@whiskeygirlssaloon.com
SUMMARY:NFL Sunday Ticket
DESCRIPTION:Every game\, every Sunday.\nTexans @ noon\, Cowboys @ 3:25pm.
URL:https://whiskeygirlssaloon.com/event/nfl-sunday-ticket-7/
END:VEVENT
BEGIN:VEVENT
DTSTART;TZID=UTC:20211119T210000
DTEND;TZID=UTC:20211119T210000
DTSTAMP:20260423T030700
CREATED:20211004T213356Z
LAST-MODIFIED:20211004T221441Z
UID:397-1637355600-1637355600@whiskeygirlssaloon.com
SUMMARY:Modisette & Sons Summer Concert Series
DESCRIPTION:Live music featuring Hayden Haddock!
URL:https://whiskeygirlssaloon.com/event/modisette-sons-summer-concert-series/
END:VEVENT
BEGIN:VEVENT
DTSTART;TZID=UTC:20211118T190000
DTEND;TZID=UTC:20211118T190000
DTSTAMP:20260423T030700
CREATED:20211004T223740Z
LAST-MODIFIED:20211004T223740Z
UID:459-1637262000-1637262000@whiskeygirlssaloon.com
SUMMARY:Kontenders Poker
DESCRIPTION:
URL:https://whiskeygirlssaloon.com/event/kontenders-poker-27/
END:VEVENT
BEGIN:VEVENT
DTSTART;TZID=UTC:20211117T190000
DTEND;TZID=UTC:20211117T190000
DTSTAMP:20260423T030700
CREATED:20211004T224315Z
LAST-MODIFIED:20211004T224315Z
UID:469-1637175600-1637175600@whiskeygirlssaloon.com
SUMMARY:Karaoke Night!
DESCRIPTION:DJ Daddy Ray hosts karaoke every Wednesday Night
URL:https://whiskeygirlssaloon.com/event/karaoke-night-7/
END:VEVENT
BEGIN:VEVENT
DTSTART;TZID=UTC:20211117T140000
DTEND;TZID=UTC:20211117T140000
DTSTAMP:20260423T030700
CREATED:20211004T225213Z
LAST-MODIFIED:20211004T225213Z
UID:483-1637157600-1637157600@whiskeygirlssaloon.com
SUMMARY:All Day Happy Hour
DESCRIPTION:Happy Hour prices – all day\, every Wednesday
URL:https://whiskeygirlssaloon.com/event/all-day-happy-hour-13/
END:VEVENT
BEGIN:VEVENT
DTSTART;TZID=UTC:20211116T190000
DTEND;TZID=UTC:20211116T190000
DTSTAMP:20260423T030700
CREATED:20211004T223703Z
LAST-MODIFIED:20211004T223703Z
UID:457-1637089200-1637089200@whiskeygirlssaloon.com
SUMMARY:Kontenders Poker
DESCRIPTION:
URL:https://whiskeygirlssaloon.com/event/kontenders-poker-26/
END:VEVENT
BEGIN:VEVENT
DTSTART;TZID=UTC:20211115T140000
DTEND;TZID=UTC:20211115T235900
DTSTAMP:20260423T030700
CREATED:20211004T230655Z
LAST-MODIFIED:20211004T230655Z
UID:502-1636984800-1637020740@whiskeygirlssaloon.com
SUMMARY:Monday Shenanigans
DESCRIPTION:S.I.N. – all day\, Open Mic Nite – 7pm\, Pool Tournament – 7:30pm
URL:https://whiskeygirlssaloon.com/event/monday-shenanigans-3/
END:VEVENT
BEGIN:VEVENT
DTSTART;TZID=UTC:20211115T140000
DTEND;TZID=UTC:20211115T190000
DTSTAMP:20260423T030700
CREATED:20211004T225957Z
LAST-MODIFIED:20211004T225957Z
UID:492-1636984800-1637002800@whiskeygirlssaloon.com
SUMMARY:Margarita Mondays
DESCRIPTION:2pm – 7pm only – handcrafted margaritas!
URL:https://whiskeygirlssaloon.com/event/margarita-mondays-7/
END:VEVENT
BEGIN:VEVENT
DTSTART;TZID=UTC:20211114T120000
DTEND;TZID=UTC:20211114T120000
DTSTAMP:20260423T030700
CREATED:20211004T213023Z
LAST-MODIFIED:20211004T221532Z
UID:395-1636891200-1636891200@whiskeygirlssaloon.com
SUMMARY:NFL Sunday Ticket
DESCRIPTION:Every game\, every Sunday.\nCowboys @ noon.
URL:https://whiskeygirlssaloon.com/event/nfl-sunday-ticket-6/
END:VEVENT
BEGIN:VEVENT
DTSTART;TZID=UTC:20211113T210000
DTEND;TZID=UTC:20211113T210000
DTSTAMP:20260423T030700
CREATED:20211004T212937Z
LAST-MODIFIED:20211004T221624Z
UID:393-1636837200-1636837200@whiskeygirlssaloon.com
SUMMARY:Steve & Jerry Maynard
DESCRIPTION:live music
URL:https://whiskeygirlssaloon.com/event/steve-jerry-maynard/
END:VEVENT
BEGIN:VEVENT
DTSTART;TZID=UTC:20211112T210000
DTEND;TZID=UTC:20211112T210000
DTSTAMP:20260423T030700
CREATED:20211004T212914Z
LAST-MODIFIED:20211004T221641Z
UID:391-1636750800-1636750800@whiskeygirlssaloon.com
SUMMARY:Honey Punch
DESCRIPTION:live music
URL:https://whiskeygirlssaloon.com/event/honey-punch-2/
END:VEVENT
BEGIN:VEVENT
DTSTART;TZID=UTC:20211111T190000
DTEND;TZID=UTC:20211111T190000
DTSTAMP:20260423T030700
CREATED:20211004T223539Z
LAST-MODIFIED:20211004T223539Z
UID:455-1636657200-1636657200@whiskeygirlssaloon.com
SUMMARY:Kontenders Poker
DESCRIPTION:
URL:https://whiskeygirlssaloon.com/event/kontenders-poker-25/
END:VEVENT
BEGIN:VEVENT
DTSTART;TZID=UTC:20211110T190000
DTEND;TZID=UTC:20211110T190000
DTSTAMP:20260423T030700
CREATED:20211004T224221Z
LAST-MODIFIED:20211004T224221Z
UID:467-1636570800-1636570800@whiskeygirlssaloon.com
SUMMARY:Karaoke Night!
DESCRIPTION:DJ Daddy Ray hosts karaoke every Wednesday Night
URL:https://whiskeygirlssaloon.com/event/karaoke-night-6/
END:VEVENT
BEGIN:VEVENT
DTSTART;TZID=UTC:20211110T140000
DTEND;TZID=UTC:20211110T140000
DTSTAMP:20260423T030700
CREATED:20211004T224914Z
LAST-MODIFIED:20211004T225045Z
UID:479-1636552800-1636552800@whiskeygirlssaloon.com
SUMMARY:All Day Happy Hour
DESCRIPTION:Happy Hour prices – all day\, every Wednesday
URL:https://whiskeygirlssaloon.com/event/all-day-happy-hour-11/
END:VEVENT
BEGIN:VEVENT
DTSTART;TZID=UTC:20211109T190000
DTEND;TZID=UTC:20211109T190000
DTSTAMP:20260423T030700
CREATED:20211004T223506Z
LAST-MODIFIED:20211004T223506Z
UID:453-1636484400-1636484400@whiskeygirlssaloon.com
SUMMARY:Kontenders Poker
DESCRIPTION:
URL:https://whiskeygirlssaloon.com/event/kontenders-poker-24/
END:VEVENT
BEGIN:VEVENT
DTSTART;TZID=UTC:20211108T140000
DTEND;TZID=UTC:20211108T235900
DTSTAMP:20260423T030700
CREATED:20211004T230624Z
LAST-MODIFIED:20211004T230624Z
UID:500-1636380000-1636415940@whiskeygirlssaloon.com
SUMMARY:Monday Shenanigans
DESCRIPTION:S.I.N. – all day\, Open Mic Nite – 7pm\, Pool Tournament – 7:30pm
URL:https://whiskeygirlssaloon.com/event/monday-shenanigans-2/
END:VEVENT
BEGIN:VEVENT
DTSTART;TZID=UTC:20211108T140000
DTEND;TZID=UTC:20211108T190000
DTSTAMP:20260423T030700
CREATED:20211004T225900Z
LAST-MODIFIED:20211004T225900Z
UID:490-1636380000-1636398000@whiskeygirlssaloon.com
SUMMARY:Margarita Mondays
DESCRIPTION:2pm – 7pm only – handcrafted margaritas!
URL:https://whiskeygirlssaloon.com/event/margarita-mondays-6/
END:VEVENT
END:VCALENDAR