BEGIN:VCALENDAR
VERSION:2.0
PRODID:-//The Whiskey Girls Saloon - ECPv6.15.20//NONSGML v1.0//EN
CALSCALE:GREGORIAN
METHOD:PUBLISH
X-WR-CALNAME:The Whiskey Girls Saloon
X-ORIGINAL-URL:https://whiskeygirlssaloon.com
X-WR-CALDESC:Events for The Whiskey Girls Saloon
REFRESH-INTERVAL;VALUE=DURATION:PT1H
X-Robots-Tag:noindex
X-PUBLISHED-TTL:PT1H
BEGIN:VTIMEZONE
TZID:UTC
BEGIN:STANDARD
TZOFFSETFROM:+0000
TZOFFSETTO:+0000
TZNAME:UTC
DTSTART:20200101T000000
END:STANDARD
END:VTIMEZONE
BEGIN:VEVENT
DTSTART;TZID=UTC:20220113T190000
DTEND;TZID=UTC:20220113T190000
DTSTAMP:20260422T223027
CREATED:20211213T215710Z
LAST-MODIFIED:20211213T215710Z
UID:566-1642100400-1642100400@whiskeygirlssaloon.com
SUMMARY:Kontender's Poker
DESCRIPTION:
URL:https://whiskeygirlssaloon.com/event/kontenders-poker-34/
END:VEVENT
BEGIN:VEVENT
DTSTART;TZID=UTC:20220112T190000
DTEND;TZID=UTC:20220112T190000
DTSTAMP:20260422T223027
CREATED:20211213T222001Z
LAST-MODIFIED:20211213T235531Z
UID:598-1642014000-1642014000@whiskeygirlssaloon.com
SUMMARY:Karaoke
DESCRIPTION:hosted by DJ Daddy Ray
URL:https://whiskeygirlssaloon.com/event/karaoke-11/
END:VEVENT
BEGIN:VEVENT
DTSTART;TZID=UTC:20220112T140000
DTEND;TZID=UTC:20220112T140000
DTSTAMP:20260422T223027
CREATED:20211213T232240Z
LAST-MODIFIED:20211213T232240Z
UID:632-1641996000-1641996000@whiskeygirlssaloon.com
SUMMARY:All Day Happy Hour
DESCRIPTION:
URL:https://whiskeygirlssaloon.com/event/all-day-happy-hour-18/
END:VEVENT
BEGIN:VEVENT
DTSTART;TZID=UTC:20220107T210000
DTEND;TZID=UTC:20220107T210000
DTSTAMP:20260422T223027
CREATED:20211213T205002Z
LAST-MODIFIED:20211213T205255Z
UID:519-1641589200-1641589200@whiskeygirlssaloon.com
SUMMARY:Whitestone
DESCRIPTION:live music
URL:https://whiskeygirlssaloon.com/event/whitestone-3/
END:VEVENT
BEGIN:VEVENT
DTSTART;TZID=UTC:20220106T190000
DTEND;TZID=UTC:20220106T190000
DTSTAMP:20260422T223027
CREATED:20211213T215610Z
LAST-MODIFIED:20211213T215610Z
UID:564-1641495600-1641495600@whiskeygirlssaloon.com
SUMMARY:Kontender's Poker
DESCRIPTION:
URL:https://whiskeygirlssaloon.com/event/kontenders-poker-33/
END:VEVENT
BEGIN:VEVENT
DTSTART;TZID=UTC:20220105T190000
DTEND;TZID=UTC:20220105T190000
DTSTAMP:20260422T223027
CREATED:20211213T221915Z
LAST-MODIFIED:20211213T221915Z
UID:596-1641409200-1641409200@whiskeygirlssaloon.com
SUMMARY:Karaoke
DESCRIPTION:hosted by DJ Daddy Ray
URL:https://whiskeygirlssaloon.com/event/karaoke-10/
END:VEVENT
BEGIN:VEVENT
DTSTART;TZID=UTC:20220105T140000
DTEND;TZID=UTC:20220105T140000
DTSTAMP:20260422T223027
CREATED:20211213T232114Z
LAST-MODIFIED:20211213T232114Z
UID:630-1641391200-1641391200@whiskeygirlssaloon.com
SUMMARY:All Day Happy Hour
DESCRIPTION:
URL:https://whiskeygirlssaloon.com/event/all-day-happy-hour-17/
END:VEVENT
BEGIN:VEVENT
DTSTART;TZID=UTC:20211231T210000
DTEND;TZID=UTC:20211231T210000
DTSTAMP:20260422T223027
CREATED:20211004T220730Z
LAST-MODIFIED:20211202T055604Z
UID:428-1640984400-1640984400@whiskeygirlssaloon.com
SUMMARY:New Years Eve Party!
DESCRIPTION:Celebrate the end of 2021 and the beginning of 2022 with us! Drink specials and champagne toast at midnight. Featuring a local band ready to rock your socks off: Code Blue
URL:https://whiskeygirlssaloon.com/event/new-years-eve-party/
END:VEVENT
BEGIN:VEVENT
DTSTART;TZID=UTC:20211230T190000
DTEND;TZID=UTC:20211230T190000
DTSTAMP:20260422T223027
CREATED:20211213T215524Z
LAST-MODIFIED:20211213T215524Z
UID:562-1640890800-1640890800@whiskeygirlssaloon.com
SUMMARY:Kontender's Poker
DESCRIPTION:
URL:https://whiskeygirlssaloon.com/event/kontenders-poker-32/
END:VEVENT
BEGIN:VEVENT
DTSTART;TZID=UTC:20211229T190000
DTEND;TZID=UTC:20211229T190000
DTSTAMP:20260422T223027
CREATED:20211213T221843Z
LAST-MODIFIED:20211213T221843Z
UID:594-1640804400-1640804400@whiskeygirlssaloon.com
SUMMARY:Karaoke
DESCRIPTION:hosted by DJ Daddy Ray
URL:https://whiskeygirlssaloon.com/event/karaoke-9/
END:VEVENT
BEGIN:VEVENT
DTSTART;TZID=UTC:20211229T140000
DTEND;TZID=UTC:20211229T140000
DTSTAMP:20260422T223027
CREATED:20211213T232025Z
LAST-MODIFIED:20211213T232025Z
UID:628-1640786400-1640786400@whiskeygirlssaloon.com
SUMMARY:All Day Happy Hour
DESCRIPTION:
URL:https://whiskeygirlssaloon.com/event/all-day-happy-hour-16/
END:VEVENT
BEGIN:VEVENT
DTSTART;TZID=UTC:20211226T120000
DTEND;TZID=UTC:20211226T120000
DTSTAMP:20260422T223027
CREATED:20211004T223154Z
LAST-MODIFIED:20211004T223154Z
UID:447-1640520000-1640520000@whiskeygirlssaloon.com
SUMMARY:NFL Sunday Ticket
DESCRIPTION:Every game\, every Sunday.\nTexans @ noon.\nCowboys @ 7:20pm.
URL:https://whiskeygirlssaloon.com/event/nfl-sunday-ticket-12/
END:VEVENT
BEGIN:VEVENT
DTSTART;TZID=UTC:20211225T180000
DTEND;TZID=UTC:20211225T180000
DTSTAMP:20260422T223027
CREATED:20211214T010042Z
LAST-MODIFIED:20211214T010042Z
UID:663-1640455200-1640455200@whiskeygirlssaloon.com
SUMMARY:Christmas Day
DESCRIPTION:Holiday Hours: 6pm – 2am
URL:https://whiskeygirlssaloon.com/event/christmas-day/
END:VEVENT
BEGIN:VEVENT
DTSTART;TZID=UTC:20211224T140000
DTEND;TZID=UTC:20211224T235900
DTSTAMP:20260422T223027
CREATED:20211214T010004Z
LAST-MODIFIED:20211214T010004Z
UID:661-1640354400-1640390340@whiskeygirlssaloon.com
SUMMARY:Christmas Eve
DESCRIPTION:Holiday Hours: 2pm – midnight
URL:https://whiskeygirlssaloon.com/event/christmas-eve/
END:VEVENT
BEGIN:VEVENT
DTSTART;TZID=UTC:20211223T190000
DTEND;TZID=UTC:20211223T190000
DTSTAMP:20260422T223027
CREATED:20211213T215421Z
LAST-MODIFIED:20211213T215421Z
UID:560-1640286000-1640286000@whiskeygirlssaloon.com
SUMMARY:Kontender's Poker
DESCRIPTION:
URL:https://whiskeygirlssaloon.com/event/kontenders-poker-31/
END:VEVENT
BEGIN:VEVENT
DTSTART;TZID=UTC:20211222T190000
DTEND;TZID=UTC:20211222T190000
DTSTAMP:20260422T223027
CREATED:20211213T221616Z
LAST-MODIFIED:20211213T221616Z
UID:592-1640199600-1640199600@whiskeygirlssaloon.com
SUMMARY:Karaoke
DESCRIPTION:hosted by DJ Daddy Ray
URL:https://whiskeygirlssaloon.com/event/karaoke-8/
END:VEVENT
BEGIN:VEVENT
DTSTART;TZID=UTC:20211222T140000
DTEND;TZID=UTC:20211222T140000
DTSTAMP:20260422T223027
CREATED:20211213T231944Z
LAST-MODIFIED:20211213T231944Z
UID:626-1640181600-1640181600@whiskeygirlssaloon.com
SUMMARY:All Day Happy Hour
DESCRIPTION:
URL:https://whiskeygirlssaloon.com/event/all-day-happy-hour-15/
END:VEVENT
BEGIN:VEVENT
DTSTART;TZID=UTC:20211219T120000
DTEND;TZID=UTC:20211219T120000
DTSTAMP:20260422T223027
CREATED:20211004T223058Z
LAST-MODIFIED:20211004T223058Z
UID:445-1639915200-1639915200@whiskeygirlssaloon.com
SUMMARY:NFL Sunday Ticket
DESCRIPTION:Every game\, every Sunday.\nCowboys @ noon.\nTexans @ noon.
URL:https://whiskeygirlssaloon.com/event/nfl-sunday-ticket-11/
END:VEVENT
BEGIN:VEVENT
DTSTART;TZID=UTC:20211217T210000
DTEND;TZID=UTC:20211217T210000
DTSTAMP:20260422T223027
CREATED:20211004T220311Z
LAST-MODIFIED:20211201T181152Z
UID:424-1639774800-1639774800@whiskeygirlssaloon.com
SUMMARY:Xmas Pajama Party ft DSoul!
DESCRIPTION:You’re invited to eat\, drink\, and be merry with us on December 17th! As always\, we will be having big giveaways\, live music (featuring D-Soul)\, and a holiday drink menu so you can pretend that it’s cold and Christmas-ish outside! Wear your best holiday pajamas and get cheery!
URL:https://whiskeygirlssaloon.com/event/dsoul/
END:VEVENT
BEGIN:VEVENT
DTSTART;TZID=UTC:20211216T190000
DTEND;TZID=UTC:20211216T190000
DTSTAMP:20260422T223027
CREATED:20211213T215335Z
LAST-MODIFIED:20211213T215335Z
UID:558-1639681200-1639681200@whiskeygirlssaloon.com
SUMMARY:Kontender's Poker
DESCRIPTION:
URL:https://whiskeygirlssaloon.com/event/kontenders-poker-30/
END:VEVENT
BEGIN:VEVENT
DTSTART;TZID=UTC:20211215T190000
DTEND;TZID=UTC:20211215T190000
DTSTAMP:20260422T223027
CREATED:20211213T221532Z
LAST-MODIFIED:20211213T221532Z
UID:590-1639594800-1639594800@whiskeygirlssaloon.com
SUMMARY:Karaoke
DESCRIPTION:hosted by DJ Daddy Ray
URL:https://whiskeygirlssaloon.com/event/karaoke-7/
END:VEVENT
BEGIN:VEVENT
DTSTART;TZID=UTC:20211215T020000
DTEND;TZID=UTC:20211215T020000
DTSTAMP:20260422T223027
CREATED:20211213T231851Z
LAST-MODIFIED:20211213T231851Z
UID:624-1639533600-1639533600@whiskeygirlssaloon.com
SUMMARY:All Day Happy Hour
DESCRIPTION:
URL:https://whiskeygirlssaloon.com/event/all-day-happy-hour-14/
END:VEVENT
BEGIN:VEVENT
DTSTART;TZID=UTC:20211212T120000
DTEND;TZID=UTC:20211212T120000
DTSTAMP:20260422T223027
CREATED:20211004T222916Z
LAST-MODIFIED:20211004T222916Z
UID:443-1639310400-1639310400@whiskeygirlssaloon.com
SUMMARY:NFL Sunday Ticket
DESCRIPTION:Every game\, every Sunday.\nCowboys @ noon.\nTexans @ noon.
URL:https://whiskeygirlssaloon.com/event/nfl-sunday-ticket-10/
END:VEVENT
BEGIN:VEVENT
DTSTART;TZID=UTC:20211211T210000
DTEND;TZID=UTC:20211211T210000
DTSTAMP:20260422T223027
CREATED:20211004T215601Z
LAST-MODIFIED:20211004T221046Z
UID:415-1639256400-1639256400@whiskeygirlssaloon.com
SUMMARY:Glen Collins & The Alibis
DESCRIPTION:live music
URL:https://whiskeygirlssaloon.com/event/glen-collins-the-alibis/
END:VEVENT
BEGIN:VEVENT
DTSTART;TZID=UTC:20211205T120000
DTEND;TZID=UTC:20211205T120000
DTSTAMP:20260422T223027
CREATED:20211004T222824Z
LAST-MODIFIED:20211004T222824Z
UID:441-1638705600-1638705600@whiskeygirlssaloon.com
SUMMARY:NFL Sunday Ticket
DESCRIPTION:Every game\, every Sunday.\nTexans @ noon.
URL:https://whiskeygirlssaloon.com/event/nfl-sunday-ticket-9/
END:VEVENT
BEGIN:VEVENT
DTSTART;TZID=UTC:20211204T210000
DTEND;TZID=UTC:20211204T210000
DTSTAMP:20260422T223027
CREATED:20211004T215443Z
LAST-MODIFIED:20211004T221236Z
UID:413-1638651600-1638651600@whiskeygirlssaloon.com
SUMMARY:Mike Ingalls
DESCRIPTION:live music
URL:https://whiskeygirlssaloon.com/event/mike-ingalls-2/
END:VEVENT
BEGIN:VEVENT
DTSTART;TZID=UTC:20211203T210000
DTEND;TZID=UTC:20211203T210000
DTSTAMP:20260422T223027
CREATED:20211004T214748Z
LAST-MODIFIED:20211202T055512Z
UID:409-1638565200-1638565200@whiskeygirlssaloon.com
SUMMARY:Scrubland Band
DESCRIPTION:live music
URL:https://whiskeygirlssaloon.com/event/whitestone-2/
END:VEVENT
BEGIN:VEVENT
DTSTART;TZID=UTC:20211130T190000
DTEND;TZID=UTC:20211130T190000
DTSTAMP:20260422T223027
CREATED:20211004T223855Z
LAST-MODIFIED:20211004T223855Z
UID:463-1638298800-1638298800@whiskeygirlssaloon.com
SUMMARY:Kontenders Poker
DESCRIPTION:
URL:https://whiskeygirlssaloon.com/event/kontenders-poker-29/
END:VEVENT
BEGIN:VEVENT
DTSTART;TZID=UTC:20211129T140000
DTEND;TZID=UTC:20211129T235900
DTSTAMP:20260422T223027
CREATED:20211004T230823Z
LAST-MODIFIED:20211004T230823Z
UID:506-1638194400-1638230340@whiskeygirlssaloon.com
SUMMARY:Monday Shenanigans
DESCRIPTION:S.I.N. – all day\, Open Mic Nite – 7pm\, Pool Tournament – 7:30pm
URL:https://whiskeygirlssaloon.com/event/monday-shenanigans-5/
END:VEVENT
BEGIN:VEVENT
DTSTART;TZID=UTC:20211128T120000
DTEND;TZID=UTC:20211128T120000
DTSTAMP:20260422T223027
CREATED:20211004T222319Z
LAST-MODIFIED:20211004T222319Z
UID:439-1638100800-1638100800@whiskeygirlssaloon.com
SUMMARY:NFL Sunday Ticket
DESCRIPTION:Every game\, every Sunday.\nTexans @ noon.
URL:https://whiskeygirlssaloon.com/event/nfl-sunday-ticket-8/
END:VEVENT
END:VCALENDAR