BEGIN:VCALENDAR
VERSION:2.0
PRODID:-//The Whiskey Girls Saloon - ECPv6.15.20//NONSGML v1.0//EN
CALSCALE:GREGORIAN
METHOD:PUBLISH
X-WR-CALNAME:The Whiskey Girls Saloon
X-ORIGINAL-URL:https://whiskeygirlssaloon.com
X-WR-CALDESC:Events for The Whiskey Girls Saloon
REFRESH-INTERVAL;VALUE=DURATION:PT1H
X-Robots-Tag:noindex
X-PUBLISHED-TTL:PT1H
BEGIN:VTIMEZONE
TZID:America/Denver
BEGIN:DAYLIGHT
TZOFFSETFROM:-0700
TZOFFSETTO:-0600
TZNAME:MDT
DTSTART:20230312T090000
END:DAYLIGHT
BEGIN:STANDARD
TZOFFSETFROM:-0600
TZOFFSETTO:-0700
TZNAME:MST
DTSTART:20231105T080000
END:STANDARD
BEGIN:DAYLIGHT
TZOFFSETFROM:-0700
TZOFFSETTO:-0600
TZNAME:MDT
DTSTART:20240310T090000
END:DAYLIGHT
BEGIN:STANDARD
TZOFFSETFROM:-0600
TZOFFSETTO:-0700
TZNAME:MST
DTSTART:20241103T080000
END:STANDARD
BEGIN:DAYLIGHT
TZOFFSETFROM:-0700
TZOFFSETTO:-0600
TZNAME:MDT
DTSTART:20250309T090000
END:DAYLIGHT
BEGIN:STANDARD
TZOFFSETFROM:-0600
TZOFFSETTO:-0700
TZNAME:MST
DTSTART:20251102T080000
END:STANDARD
END:VTIMEZONE
BEGIN:VEVENT
DTSTART;TZID=America/Denver:20241220T220000
DTEND;TZID=America/Denver:20241220T220000
DTSTAMP:20260422T014529
CREATED:20241202T235902Z
LAST-MODIFIED:20241203T004030Z
UID:1194-1734732000-1734732000@whiskeygirlssaloon.com
SUMMARY:DJ KIMMY K
DESCRIPTION:World-renowned DJ Kimmy K is on our stage tonight! Let’s party!
URL:https://whiskeygirlssaloon.com/event/dj-kimmy-k-12-20/
LOCATION:Whiskey Girls Saloon\, 13700 FM973 Bldg A\, Manor\, Texas\, 78653
END:VEVENT
BEGIN:VEVENT
DTSTART;TZID=America/Denver:20241221T220000
DTEND;TZID=America/Denver:20241221T220000
DTSTAMP:20260422T014529
CREATED:20241203T001018Z
LAST-MODIFIED:20241203T003015Z
UID:1204-1734818400-1734818400@whiskeygirlssaloon.com
SUMMARY:DJ DK
DESCRIPTION:In the mix until closing time!
URL:https://whiskeygirlssaloon.com/event/dj-dk-12-21/
LOCATION:Whiskey Girls Saloon\, 13700 FM973 Bldg A\, Manor\, Texas\, 78653
END:VEVENT
BEGIN:VEVENT
DTSTART;TZID=America/Denver:20241225T160000
DTEND;TZID=America/Denver:20241225T235900
DTSTAMP:20260422T014529
CREATED:20241203T005059Z
LAST-MODIFIED:20241203T005233Z
UID:1217-1735142400-1735171140@whiskeygirlssaloon.com
SUMMARY:Christmas Day Hours
DESCRIPTION:We will open at 4pm on Christmas Day\, and close at our normal hour of 2am
URL:https://whiskeygirlssaloon.com/event/christmas-day-hours-12-25/
LOCATION:Whiskey Girls Saloon\, 13700 FM973 Bldg A\, Manor\, Texas\, 78653
END:VEVENT
BEGIN:VEVENT
DTSTART;TZID=America/Denver:20241227T220000
DTEND;TZID=America/Denver:20241227T220000
DTSTAMP:20260422T014529
CREATED:20241203T000005Z
LAST-MODIFIED:20241203T002924Z
UID:1196-1735336800-1735336800@whiskeygirlssaloon.com
SUMMARY:Bob Floyd
DESCRIPTION:
URL:https://whiskeygirlssaloon.com/event/bob-floyd-12-27/
LOCATION:Whiskey Girls Saloon\, 13700 FM973 Bldg A\, Manor\, Texas\, 78653
END:VEVENT
BEGIN:VEVENT
DTSTART;TZID=America/Denver:20241228T220000
DTEND;TZID=America/Denver:20241228T220000
DTSTAMP:20260422T014529
CREATED:20241203T001133Z
LAST-MODIFIED:20241203T002648Z
UID:1206-1735423200-1735423200@whiskeygirlssaloon.com
SUMMARY:DJ DK
DESCRIPTION:
URL:https://whiskeygirlssaloon.com/event/dj-dk-12-28/
LOCATION:Whiskey Girls Saloon\, 13700 FM973 Bldg A\, Manor\, Texas\, 78653
END:VEVENT
BEGIN:VEVENT
DTSTART;TZID=America/Denver:20241231T220000
DTEND;TZID=America/Denver:20241231T235900
DTSTAMP:20260422T014529
CREATED:20241203T002121Z
LAST-MODIFIED:20241203T004630Z
UID:1211-1735682400-1735689540@whiskeygirlssaloon.com
SUMMARY:NYE - We're ringin' in 2025!
DESCRIPTION:DJ DK and champagne toast at midnight!
URL:https://whiskeygirlssaloon.com/event/ringin-in-2025/
LOCATION:Whiskey Girls Saloon\, 13700 FM973 Bldg A\, Manor\, Texas\, 78653
END:VEVENT
END:VCALENDAR