BEGIN:VCALENDAR
VERSION:2.0
PRODID:-//The Whiskey Girls Saloon - ECPv6.15.20//NONSGML v1.0//EN
CALSCALE:GREGORIAN
METHOD:PUBLISH
X-WR-CALNAME:The Whiskey Girls Saloon
X-ORIGINAL-URL:https://whiskeygirlssaloon.com
X-WR-CALDESC:Events for The Whiskey Girls Saloon
REFRESH-INTERVAL;VALUE=DURATION:PT1H
X-Robots-Tag:noindex
X-PUBLISHED-TTL:PT1H
BEGIN:VTIMEZONE
TZID:UTC
BEGIN:STANDARD
TZOFFSETFROM:+0000
TZOFFSETTO:+0000
TZNAME:UTC
DTSTART:20210101T000000
END:STANDARD
END:VTIMEZONE
BEGIN:VEVENT
DTSTART;TZID=UTC:20220429T210000
DTEND;TZID=UTC:20220429T210000
DTSTAMP:20260422T220400
CREATED:20220124T223507Z
LAST-MODIFIED:20220124T223507Z
UID:684-1651266000-1651266000@whiskeygirlssaloon.com
SUMMARY:Jason Kane White
DESCRIPTION:
URL:https://whiskeygirlssaloon.com/event/jason-kane-white-3/
LOCATION:Whiskey Girls Saloon\, 13700 FM973 Bldg A\, Manor\, Texas\, 78653
END:VEVENT
BEGIN:VEVENT
DTSTART;TZID=UTC:20220423T210000
DTEND;TZID=UTC:20220423T210000
DTSTAMP:20260422T220400
CREATED:20220124T223420Z
LAST-MODIFIED:20220124T223420Z
UID:682-1650747600-1650747600@whiskeygirlssaloon.com
SUMMARY:Stiletto
DESCRIPTION:
URL:https://whiskeygirlssaloon.com/event/stiletto/
LOCATION:Whiskey Girls Saloon\, 13700 FM973 Bldg A\, Manor\, Texas\, 78653
END:VEVENT
BEGIN:VEVENT
DTSTART;TZID=UTC:20220422T210000
DTEND;TZID=UTC:20220422T210000
DTSTAMP:20260422T220400
CREATED:20220124T223317Z
LAST-MODIFIED:20220124T223317Z
UID:680-1650661200-1650661200@whiskeygirlssaloon.com
SUMMARY:Honey Punch
DESCRIPTION:
URL:https://whiskeygirlssaloon.com/event/honey-punch-3/
LOCATION:Whiskey Girls Saloon\, 13700 FM973 Bldg A\, Manor\, Texas\, 78653
END:VEVENT
BEGIN:VEVENT
DTSTART;TZID=UTC:20220416T210000
DTEND;TZID=UTC:20220416T210000
DTSTAMP:20260422T220400
CREATED:20220124T223211Z
LAST-MODIFIED:20220124T223211Z
UID:678-1650142800-1650142800@whiskeygirlssaloon.com
SUMMARY:Home At Last
DESCRIPTION:
URL:https://whiskeygirlssaloon.com/event/home-at-last/
END:VEVENT
BEGIN:VEVENT
DTSTART;TZID=UTC:20220415T210000
DTEND;TZID=UTC:20220415T210000
DTSTAMP:20260422T220400
CREATED:20220124T223122Z
LAST-MODIFIED:20220124T223122Z
UID:676-1650056400-1650056400@whiskeygirlssaloon.com
SUMMARY:Hit & Run
DESCRIPTION:
URL:https://whiskeygirlssaloon.com/event/hit-run-2/
LOCATION:Whiskey Girls Saloon\, 13700 FM973 Bldg A\, Manor\, Texas\, 78653
END:VEVENT
BEGIN:VEVENT
DTSTART;TZID=UTC:20220409T210000
DTEND;TZID=UTC:20220409T210000
DTSTAMP:20260422T220400
CREATED:20211213T214724Z
LAST-MODIFIED:20211213T214724Z
UID:555-1649538000-1649538000@whiskeygirlssaloon.com
SUMMARY:James Wesley & The Rez
DESCRIPTION:live music
URL:https://whiskeygirlssaloon.com/event/james-wesley-the-rez/
END:VEVENT
BEGIN:VEVENT
DTSTART;TZID=UTC:20220408T210000
DTEND;TZID=UTC:20220408T210000
DTSTAMP:20260422T220400
CREATED:20220124T223028Z
LAST-MODIFIED:20220124T223028Z
UID:674-1649451600-1649451600@whiskeygirlssaloon.com
SUMMARY:X-Factory
DESCRIPTION:
URL:https://whiskeygirlssaloon.com/event/x-factory-3/
LOCATION:Whiskey Girls Saloon\, 13700 FM973 Bldg A\, Manor\, Texas\, 78653
END:VEVENT
BEGIN:VEVENT
DTSTART;TZID=UTC:20220401T210000
DTEND;TZID=UTC:20220401T210000
DTSTAMP:20260422T220400
CREATED:20211213T211147Z
LAST-MODIFIED:20211213T211147Z
UID:553-1648846800-1648846800@whiskeygirlssaloon.com
SUMMARY:Deja Vibes
DESCRIPTION:live music
URL:https://whiskeygirlssaloon.com/event/deja-vibes/
END:VEVENT
BEGIN:VEVENT
DTSTART;TZID=UTC:20220331T190000
DTEND;TZID=UTC:20220331T190000
DTSTAMP:20260422T220400
CREATED:20211213T221207Z
LAST-MODIFIED:20211213T221207Z
UID:588-1648753200-1648753200@whiskeygirlssaloon.com
SUMMARY:Kontender's Poker
DESCRIPTION:
URL:https://whiskeygirlssaloon.com/event/kontenders-poker-45/
END:VEVENT
BEGIN:VEVENT
DTSTART;TZID=UTC:20220330T190000
DTEND;TZID=UTC:20220330T190000
DTSTAMP:20260422T220400
CREATED:20211213T230009Z
LAST-MODIFIED:20211213T230009Z
UID:622-1648666800-1648666800@whiskeygirlssaloon.com
SUMMARY:Karaoke
DESCRIPTION:hosted DJ Daddy Ray
URL:https://whiskeygirlssaloon.com/event/karaoke-23/
END:VEVENT
BEGIN:VEVENT
DTSTART;TZID=UTC:20220330T140000
DTEND;TZID=UTC:20220330T140000
DTSTAMP:20260422T220400
CREATED:20211213T234752Z
LAST-MODIFIED:20211213T234752Z
UID:653-1648648800-1648648800@whiskeygirlssaloon.com
SUMMARY:All Day Happy Hour
DESCRIPTION:
URL:https://whiskeygirlssaloon.com/event/all-day-happy-hour-27/
END:VEVENT
BEGIN:VEVENT
DTSTART;TZID=UTC:20220326T210000
DTEND;TZID=UTC:20220326T210000
DTSTAMP:20260422T220400
CREATED:20211213T211056Z
LAST-MODIFIED:20211213T211056Z
UID:551-1648328400-1648328400@whiskeygirlssaloon.com
SUMMARY:Glen Collins & The Alibis
DESCRIPTION:live music
URL:https://whiskeygirlssaloon.com/event/glen-collins-the-alibis-3/
END:VEVENT
BEGIN:VEVENT
DTSTART;TZID=UTC:20220325T210000
DTEND;TZID=UTC:20220325T210000
DTSTAMP:20260422T220400
CREATED:20211213T210921Z
LAST-MODIFIED:20211213T210921Z
UID:549-1648242000-1648242000@whiskeygirlssaloon.com
SUMMARY:Mike Ingalls
DESCRIPTION:live music
URL:https://whiskeygirlssaloon.com/event/mike-ingalls-5/
END:VEVENT
BEGIN:VEVENT
DTSTART;TZID=UTC:20220324T190000
DTEND;TZID=UTC:20220324T190000
DTSTAMP:20260422T220400
CREATED:20211213T220712Z
LAST-MODIFIED:20211213T220712Z
UID:586-1648148400-1648148400@whiskeygirlssaloon.com
SUMMARY:Kontender's Poker
DESCRIPTION:
URL:https://whiskeygirlssaloon.com/event/kontenders-poker-44/
END:VEVENT
BEGIN:VEVENT
DTSTART;TZID=UTC:20220323T190000
DTEND;TZID=UTC:20220323T190000
DTSTAMP:20260422T220400
CREATED:20211213T225914Z
LAST-MODIFIED:20211213T225914Z
UID:620-1648062000-1648062000@whiskeygirlssaloon.com
SUMMARY:Karaoke
DESCRIPTION:hosted DJ Daddy Ray
URL:https://whiskeygirlssaloon.com/event/karaoke-22/
END:VEVENT
BEGIN:VEVENT
DTSTART;TZID=UTC:20220323T140000
DTEND;TZID=UTC:20220323T140000
DTSTAMP:20260422T220400
CREATED:20211213T234703Z
LAST-MODIFIED:20211213T234703Z
UID:651-1648044000-1648044000@whiskeygirlssaloon.com
SUMMARY:All Day Happy Hour
DESCRIPTION:
URL:https://whiskeygirlssaloon.com/event/all-day-happy-hour-26/
END:VEVENT
BEGIN:VEVENT
DTSTART;TZID=UTC:20220319T210000
DTEND;TZID=UTC:20220319T210000
DTSTAMP:20260422T220400
CREATED:20220124T222633Z
LAST-MODIFIED:20220124T222633Z
UID:670-1647723600-1647723600@whiskeygirlssaloon.com
SUMMARY:D-Soul
DESCRIPTION:
URL:https://whiskeygirlssaloon.com/event/d-soul/
LOCATION:Whiskey Girls Saloon\, 13700 FM973 Bldg A\, Manor\, Texas\, 78653
END:VEVENT
BEGIN:VEVENT
DTSTART;TZID=UTC:20220317T190000
DTEND;TZID=UTC:20220317T190000
DTSTAMP:20260422T220400
CREATED:20211213T220634Z
LAST-MODIFIED:20211213T220634Z
UID:584-1647543600-1647543600@whiskeygirlssaloon.com
SUMMARY:Kontender's Poker
DESCRIPTION:
URL:https://whiskeygirlssaloon.com/event/kontenders-poker-43/
END:VEVENT
BEGIN:VEVENT
DTSTART;TZID=UTC:20220316T190000
DTEND;TZID=UTC:20220316T190000
DTSTAMP:20260422T220400
CREATED:20211213T225653Z
LAST-MODIFIED:20211213T225653Z
UID:618-1647457200-1647457200@whiskeygirlssaloon.com
SUMMARY:Karaoke
DESCRIPTION:hosted by DJ Daddy Ray
URL:https://whiskeygirlssaloon.com/event/karaoke-21/
END:VEVENT
BEGIN:VEVENT
DTSTART;TZID=UTC:20220316T140000
DTEND;TZID=UTC:20220316T140000
DTSTAMP:20260422T220400
CREATED:20211213T234217Z
LAST-MODIFIED:20211213T234217Z
UID:645-1647439200-1647439200@whiskeygirlssaloon.com
SUMMARY:All Day Happy Hour
DESCRIPTION:
URL:https://whiskeygirlssaloon.com/event/all-day-happy-hour-24/
END:VEVENT
BEGIN:VEVENT
DTSTART;TZID=UTC:20220312T210000
DTEND;TZID=UTC:20220312T210000
DTSTAMP:20260422T220400
CREATED:20211213T210635Z
LAST-MODIFIED:20211213T210635Z
UID:543-1647118800-1647118800@whiskeygirlssaloon.com
SUMMARY:Moon Tide
DESCRIPTION:live music
URL:https://whiskeygirlssaloon.com/event/moon-tide-2/
END:VEVENT
BEGIN:VEVENT
DTSTART;TZID=UTC:20220312T120000
DTEND;TZID=UTC:20220312T170000
DTSTAMP:20260422T220400
CREATED:20220124T221914Z
LAST-MODIFIED:20220124T235053Z
UID:667-1647086400-1647104400@whiskeygirlssaloon.com
SUMMARY:All You Can Eat Crawfish Boil
DESCRIPTION:ALL YOU CAN EAT CRAWFISH with DJ Daddy Ray! \nBuy your wristband at the bar. Ask your bartender for details. \n$20 presale wristbands or $25 on the day of the crawfish boil
URL:https://whiskeygirlssaloon.com/event/crawfish-boil/
LOCATION:Whiskey Girls Saloon\, 13700 FM973 Bldg A\, Manor\, Texas\, 78653
END:VEVENT
BEGIN:VEVENT
DTSTART;TZID=UTC:20220311T210000
DTEND;TZID=UTC:20220311T210000
DTSTAMP:20260422T220400
CREATED:20211213T210544Z
LAST-MODIFIED:20211213T210544Z
UID:541-1647032400-1647032400@whiskeygirlssaloon.com
SUMMARY:Whitestone
DESCRIPTION:live music
URL:https://whiskeygirlssaloon.com/event/whitestone-4/
END:VEVENT
BEGIN:VEVENT
DTSTART;TZID=UTC:20220310T190000
DTEND;TZID=UTC:20220310T190000
DTSTAMP:20260422T220400
CREATED:20211213T220552Z
LAST-MODIFIED:20211213T220833Z
UID:582-1646938800-1646938800@whiskeygirlssaloon.com
SUMMARY:Kontender's Poker
DESCRIPTION:
URL:https://whiskeygirlssaloon.com/event/kontenders-poker-42/
END:VEVENT
BEGIN:VEVENT
DTSTART;TZID=UTC:20220309T190000
DTEND;TZID=UTC:20220309T190000
DTSTAMP:20260422T220400
CREATED:20211213T225608Z
LAST-MODIFIED:20211213T225608Z
UID:616-1646852400-1646852400@whiskeygirlssaloon.com
SUMMARY:Karaoke
DESCRIPTION:hosted by DJ Daddy Ray
URL:https://whiskeygirlssaloon.com/event/karaoke-20/
END:VEVENT
BEGIN:VEVENT
DTSTART;TZID=UTC:20220309T140000
DTEND;TZID=UTC:20220309T140000
DTSTAMP:20260422T220400
CREATED:20211213T234619Z
LAST-MODIFIED:20211213T234915Z
UID:649-1646834400-1646834400@whiskeygirlssaloon.com
SUMMARY:All Day Happy Hour
DESCRIPTION:
URL:https://whiskeygirlssaloon.com/event/all-day-happy-hour-25/
END:VEVENT
BEGIN:VEVENT
DTSTART;TZID=UTC:20220304T210000
DTEND;TZID=UTC:20220304T210000
DTSTAMP:20260422T220400
CREATED:20211213T210457Z
LAST-MODIFIED:20211213T221019Z
UID:537-1646427600-1646427600@whiskeygirlssaloon.com
SUMMARY:Jon & Faith Austin
DESCRIPTION:live music
URL:https://whiskeygirlssaloon.com/event/jon-faith-austin/
END:VEVENT
BEGIN:VEVENT
DTSTART;TZID=UTC:20220303T190000
DTEND;TZID=UTC:20220303T190000
DTSTAMP:20260422T220400
CREATED:20211213T220522Z
LAST-MODIFIED:20211213T220522Z
UID:580-1646334000-1646334000@whiskeygirlssaloon.com
SUMMARY:Kontender's Poker
DESCRIPTION:
URL:https://whiskeygirlssaloon.com/event/kontenders-poker-41/
END:VEVENT
BEGIN:VEVENT
DTSTART;TZID=UTC:20220302T190000
DTEND;TZID=UTC:20220302T190000
DTSTAMP:20260422T220400
CREATED:20211213T225522Z
LAST-MODIFIED:20211213T225522Z
UID:614-1646247600-1646247600@whiskeygirlssaloon.com
SUMMARY:Karaoke
DESCRIPTION:hosted by DJ Daddy Ray
URL:https://whiskeygirlssaloon.com/event/karaoke-19/
END:VEVENT
BEGIN:VEVENT
DTSTART;TZID=UTC:20220302T140000
DTEND;TZID=UTC:20220302T140000
DTSTAMP:20260422T220400
CREATED:20211213T234517Z
LAST-MODIFIED:20211213T234517Z
UID:647-1646229600-1646229600@whiskeygirlssaloon.com
SUMMARY:All Day Happy Hour
DESCRIPTION:
URL:https://whiskeygirlssaloon.com/event/all-day-happy-hour-23/
END:VEVENT
END:VCALENDAR