BEGIN:VCALENDAR
VERSION:2.0
PRODID:-//The Whiskey Girls Saloon - ECPv6.15.20//NONSGML v1.0//EN
CALSCALE:GREGORIAN
METHOD:PUBLISH
X-WR-CALNAME:The Whiskey Girls Saloon
X-ORIGINAL-URL:https://whiskeygirlssaloon.com
X-WR-CALDESC:Events for The Whiskey Girls Saloon
REFRESH-INTERVAL;VALUE=DURATION:PT1H
X-Robots-Tag:noindex
X-PUBLISHED-TTL:PT1H
BEGIN:VTIMEZONE
TZID:UTC
BEGIN:STANDARD
TZOFFSETFROM:+0000
TZOFFSETTO:+0000
TZNAME:UTC
DTSTART:20210101T000000
END:STANDARD
END:VTIMEZONE
BEGIN:VTIMEZONE
TZID:America/Denver
BEGIN:DAYLIGHT
TZOFFSETFROM:-0700
TZOFFSETTO:-0600
TZNAME:MDT
DTSTART:20220313T090000
END:DAYLIGHT
BEGIN:STANDARD
TZOFFSETFROM:-0600
TZOFFSETTO:-0700
TZNAME:MST
DTSTART:20221106T080000
END:STANDARD
BEGIN:DAYLIGHT
TZOFFSETFROM:-0700
TZOFFSETTO:-0600
TZNAME:MDT
DTSTART:20230312T090000
END:DAYLIGHT
BEGIN:STANDARD
TZOFFSETFROM:-0600
TZOFFSETTO:-0700
TZNAME:MST
DTSTART:20231105T080000
END:STANDARD
BEGIN:DAYLIGHT
TZOFFSETFROM:-0700
TZOFFSETTO:-0600
TZNAME:MDT
DTSTART:20240310T090000
END:DAYLIGHT
BEGIN:STANDARD
TZOFFSETFROM:-0600
TZOFFSETTO:-0700
TZNAME:MST
DTSTART:20241103T080000
END:STANDARD
END:VTIMEZONE
BEGIN:VEVENT
DTSTART;TZID=UTC:20230310T210000
DTEND;TZID=UTC:20230310T210000
DTSTAMP:20260422T020032
CREATED:20230307T191548Z
LAST-MODIFIED:20230307T191548Z
UID:863-1678482000-1678482000@whiskeygirlssaloon.com
SUMMARY:Dirt Road Band
DESCRIPTION:
URL:https://whiskeygirlssaloon.com/event/dirt-road-band-2/
LOCATION:Texas
END:VEVENT
BEGIN:VEVENT
DTSTART;TZID=UTC:20230304T210000
DTEND;TZID=UTC:20230304T210000
DTSTAMP:20260422T020032
CREATED:20220809T194446Z
LAST-MODIFIED:20230103T032414Z
UID:779-1677963600-1677963600@whiskeygirlssaloon.com
SUMMARY:The Genders
DESCRIPTION:
URL:https://whiskeygirlssaloon.com/event/the-genders-4/
LOCATION:Whiskey Girls Saloon\, 13700 FM973 Bldg A\, Manor\, Texas\, 78653
END:VEVENT
BEGIN:VEVENT
DTSTART;TZID=UTC:20230303T210000
DTEND;TZID=UTC:20230303T210000
DTSTAMP:20260422T020032
CREATED:20220809T194354Z
LAST-MODIFIED:20230103T032327Z
UID:777-1677877200-1677877200@whiskeygirlssaloon.com
SUMMARY:The Outlaws Revival
DESCRIPTION:
URL:https://whiskeygirlssaloon.com/event/the-outlaws-revival/
LOCATION:Whiskey Girls Saloon\, 13700 FM973 Bldg A\, Manor\, Texas\, 78653
END:VEVENT
BEGIN:VEVENT
DTSTART;TZID=UTC:20230224T210000
DTEND;TZID=UTC:20230224T210000
DTSTAMP:20260422T020032
CREATED:20220809T194142Z
LAST-MODIFIED:20230103T032203Z
UID:773-1677272400-1677272400@whiskeygirlssaloon.com
SUMMARY:Dry County
DESCRIPTION:
URL:https://whiskeygirlssaloon.com/event/dry-county-4/
LOCATION:Texas
END:VEVENT
BEGIN:VEVENT
DTSTART;TZID=America/Denver:20230221T140000
DTEND;TZID=America/Denver:20230221T233000
DTSTAMP:20260422T020032
CREATED:20230207T205643Z
LAST-MODIFIED:20230207T205643Z
UID:853-1676988000-1677022200@whiskeygirlssaloon.com
SUMMARY:FAT TUESDAY
DESCRIPTION:If the Mardi Gras crowds in Nola aren’t your thing\, we’ve got something a lil’ more low key for you. Okay\, a lot more low key…\nWe have a few Nola-esque drink specials for Fat Tuesday\, plus\, KING CAKE.
URL:https://whiskeygirlssaloon.com/event/fat-tuesday/
LOCATION:Whiskey Girls Saloon\, 13700 FM973 Bldg A\, Manor\, Texas\, 78653
END:VEVENT
BEGIN:VEVENT
DTSTART;TZID=UTC:20230219T160000
DTEND;TZID=UTC:20230219T183000
DTSTAMP:20260422T020032
CREATED:20230207T205108Z
LAST-MODIFIED:20230207T205108Z
UID:850-1676822400-1676831400@whiskeygirlssaloon.com
SUMMARY:GUMBO COOK-OFF
DESCRIPTION:We had so much fun with January’s chili cook-off\, so we figured we’d do it again\, but with gumbo!\nIt’s Mardi Gras time\, so bring the spice! We’ll choose judges on the day of. Everyone is free to eat gumbo after the judging has completed!\nBring your crockpot and big spoon in by 4pm\, and we’ll start the judging at 5pm.\nWhiskey Girls will provide bowls and spoons.\nDue to food allergies\, we ask that you label any potential risks to others\, without giving away your super top secret recipe\, of course! \nWinners get 1st\, 2nd\, and 3rd place spoons\, as well as their photo on our Facebook account!
URL:https://whiskeygirlssaloon.com/event/gumbo-cook-off/
LOCATION:Whiskey Girls Saloon\, 13700 FM973 Bldg A\, Manor\, Texas\, 78653
END:VEVENT
BEGIN:VEVENT
DTSTART;TZID=UTC:20230218T210000
DTEND;TZID=UTC:20230218T210000
DTSTAMP:20260422T020032
CREATED:20220504T171041Z
LAST-MODIFIED:20230103T032119Z
UID:748-1676754000-1676754000@whiskeygirlssaloon.com
SUMMARY:Gabor Nicholson
DESCRIPTION:
URL:https://whiskeygirlssaloon.com/event/gabor-nicholson-2/
LOCATION:Texas
END:VEVENT
BEGIN:VEVENT
DTSTART;TZID=UTC:20230217T210000
DTEND;TZID=UTC:20230217T210000
DTSTAMP:20260422T020032
CREATED:20220504T171203Z
LAST-MODIFIED:20230103T032041Z
UID:752-1676667600-1676667600@whiskeygirlssaloon.com
SUMMARY:Whitestone
DESCRIPTION:
URL:https://whiskeygirlssaloon.com/event/whitestone-6/
LOCATION:Texas
END:VEVENT
BEGIN:VEVENT
DTSTART;TZID=UTC:20230212T173000
DTEND;TZID=UTC:20230212T203000
DTSTAMP:20260422T020032
CREATED:20230122T235838Z
LAST-MODIFIED:20230207T204226Z
UID:819-1676223000-1676233800@whiskeygirlssaloon.com
SUMMARY:SUPER BOWL LVII POTLUCK
DESCRIPTION:It’s the big one\, yall! We’ve cheered and screamed at our televisions since September\nand now the NFL game to rule them all is upon us! Super Bowl LVII! \nWhether you’re in it the Chiefs\, the Eagles\, or just because these are the only commercials\nyou’ll care about all year\, we’ve got screens all over the bar to keep you entertained! \nWhiskey Girls is providing pulled pork sandwiches\, and yall are welcome to bring a side dish. Let your bartender know what you plan to bring\, and we’ll get ya on the list!
URL:https://whiskeygirlssaloon.com/event/super-bowl-lvii/
LOCATION:Whiskey Girls Saloon\, 13700 FM973 Bldg A\, Manor\, Texas\, 78653
END:VEVENT
BEGIN:VEVENT
DTSTART;TZID=UTC:20230211T210000
DTEND;TZID=UTC:20230211T235500
DTSTAMP:20260422T020032
CREATED:20230131T205445Z
LAST-MODIFIED:20230210T032013Z
UID:836-1676149200-1676159700@whiskeygirlssaloon.com
SUMMARY:X Factory
DESCRIPTION:
URL:https://whiskeygirlssaloon.com/event/xfactory/
LOCATION:Whiskey Girls Saloon\, 13700 FM973 Bldg A\, Manor\, Texas\, 78653
END:VEVENT
BEGIN:VEVENT
DTSTART;TZID=UTC:20230210T210000
DTEND;TZID=UTC:20230210T210000
DTSTAMP:20260422T020032
CREATED:20220809T194908Z
LAST-MODIFIED:20230103T032007Z
UID:787-1676062800-1676062800@whiskeygirlssaloon.com
SUMMARY:D Soul
DESCRIPTION:
URL:https://whiskeygirlssaloon.com/event/d-soul-6/
LOCATION:Texas
END:VEVENT
BEGIN:VEVENT
DTSTART;TZID=UTC:20230204T210000
DTEND;TZID=UTC:20230204T210000
DTSTAMP:20260422T020032
CREATED:20220124T225720Z
LAST-MODIFIED:20230103T031936Z
UID:709-1675544400-1675544400@whiskeygirlssaloon.com
SUMMARY:Michael Ingalls
DESCRIPTION:
URL:https://whiskeygirlssaloon.com/event/michael-ingalls-4/
LOCATION:Whiskey Girls Saloon\, 13700 FM973 Bldg A\, Manor\, Texas\, 78653
END:VEVENT
BEGIN:VEVENT
DTSTART;TZID=UTC:20230203T210000
DTEND;TZID=UTC:20230203T210000
DTSTAMP:20260422T020033
CREATED:20220124T234823Z
LAST-MODIFIED:20230103T031854Z
UID:721-1675458000-1675458000@whiskeygirlssaloon.com
SUMMARY:Glen Collins & the Alibis
DESCRIPTION:
URL:https://whiskeygirlssaloon.com/event/glen-collins-the-alibis-7/
LOCATION:Whiskey Girls Saloon\, 13700 FM973 Bldg A\, Manor\, Texas\, 78653
END:VEVENT
BEGIN:VEVENT
DTSTART;TZID=UTC:20230129T140000
DTEND;TZID=UTC:20230129T200000
DTSTAMP:20260422T020033
CREATED:20230122T235542Z
LAST-MODIFIED:20230125T070108Z
UID:817-1675000800-1675022400@whiskeygirlssaloon.com
SUMMARY:NFL Conference Games
DESCRIPTION:We’re showing all the NFL football games leading up to the Super Bowl!\nToday is the big decider! Who are your picks for LVII? \n\n2:00PM – 49ers v. Eagles\n5:30PM – Bengals v. Chiefs \nWe’ve got a couple of deals going during the games: \n$5 for two chili dogs\n$5 for Frito pie
URL:https://whiskeygirlssaloon.com/event/nfl-conference-games/
LOCATION:Whiskey Girls Saloon\, 13700 FM973 Bldg A\, Manor\, Texas\, 78653
END:VEVENT
BEGIN:VEVENT
DTSTART;TZID=UTC:20230128T170000
DTEND;TZID=UTC:20230128T190000
DTSTAMP:20260422T020033
CREATED:20230122T234946Z
LAST-MODIFIED:20230122T235046Z
UID:810-1674925200-1674932400@whiskeygirlssaloon.com
SUMMARY:Whiskey Girls Chili Cook-Off!
DESCRIPTION:Show us what you got! We’re having a chili cook-off! Sign up with Lindsay or a bartender!
URL:https://whiskeygirlssaloon.com/event/whiskey-girls-chili-cook-off/
LOCATION:Whiskey Girls Saloon\, 13700 FM973 Bldg A\, Manor\, Texas\, 78653
END:VEVENT
BEGIN:VEVENT
DTSTART;TZID=UTC:20230127T210000
DTEND;TZID=UTC:20230127T210000
DTSTAMP:20260422T020033
CREATED:20211004T213642Z
LAST-MODIFIED:20230103T031809Z
UID:400-1674853200-1674853200@whiskeygirlssaloon.com
SUMMARY:Los Juanabees
DESCRIPTION:live music
URL:https://whiskeygirlssaloon.com/event/los-juanabees/
LOCATION:Texas
END:VEVENT
BEGIN:VEVENT
DTSTART;TZID=UTC:20230126T210000
DTEND;TZID=UTC:20230126T233000
DTSTAMP:20260422T020033
CREATED:20230123T001236Z
LAST-MODIFIED:20230123T001236Z
UID:825-1674766800-1674775800@whiskeygirlssaloon.com
SUMMARY:Tejano Thursday
DESCRIPTION:DJ Flaco\n9pm \nOur hottest night of the week!
URL:https://whiskeygirlssaloon.com/event/tejano-thursday/
LOCATION:Whiskey Girls Saloon\, 13700 FM973 Bldg A\, Manor\, Texas\, 78653
END:VEVENT
BEGIN:VEVENT
DTSTART;TZID=UTC:20230122T140000
DTEND;TZID=UTC:20230122T210000
DTSTAMP:20260422T020033
CREATED:20230122T235252Z
LAST-MODIFIED:20230122T235252Z
UID:813-1674396000-1674421200@whiskeygirlssaloon.com
SUMMARY:NFL Divisionals
DESCRIPTION:We’re showing the games leading up to the Super Bowl! \nWe’ve got a couple of deals going during the games: \n$5 for two chili dogs\n$5 for Frito pie
URL:https://whiskeygirlssaloon.com/event/nfl-divisionals/
LOCATION:Whiskey Girls Saloon\, 13700 FM973 Bldg A\, Manor\, Texas\, 78653
END:VEVENT
BEGIN:VEVENT
DTSTART;TZID=UTC:20230121T150000
DTEND;TZID=UTC:20230121T210000
DTSTAMP:20260422T020033
CREATED:20230122T235334Z
LAST-MODIFIED:20230122T235334Z
UID:815-1674313200-1674334800@whiskeygirlssaloon.com
SUMMARY:NFL Divisionals
DESCRIPTION:We’re showing the games leading up to the Super Bowl! \nWe’ve got a couple of deals going during the games: \n$5 for two chili dogs\n$5 for Frito pie
URL:https://whiskeygirlssaloon.com/event/nfl-divisionals-2/
LOCATION:Whiskey Girls Saloon\, 13700 FM973 Bldg A\, Manor\, Texas\, 78653
END:VEVENT
BEGIN:VEVENT
DTSTART;TZID=UTC:20230120T210000
DTEND;TZID=UTC:20230120T210000
DTSTAMP:20260422T020033
CREATED:20220504T170641Z
LAST-MODIFIED:20230103T031721Z
UID:740-1674248400-1674248400@whiskeygirlssaloon.com
SUMMARY:Fun Gus & The Shrooms
DESCRIPTION:
URL:https://whiskeygirlssaloon.com/event/fun-gus-the-shrooms/
LOCATION:Texas
END:VEVENT
BEGIN:VEVENT
DTSTART;TZID=UTC:20230113T210000
DTEND;TZID=UTC:20230113T210000
DTSTAMP:20260422T020033
CREATED:20220809T194543Z
LAST-MODIFIED:20230103T030824Z
UID:781-1673643600-1673643600@whiskeygirlssaloon.com
SUMMARY:Home At Last
DESCRIPTION:
URL:https://whiskeygirlssaloon.com/event/home-at-last-2/
LOCATION:Whiskey Girls Saloon\, 13700 FM973 Bldg A\, Manor\, Texas\, 78653
END:VEVENT
BEGIN:VEVENT
DTSTART;TZID=UTC:20230106T210000
DTEND;TZID=UTC:20230106T210000
DTSTAMP:20260422T020033
CREATED:20220124T225856Z
LAST-MODIFIED:20230103T031623Z
UID:711-1673038800-1673038800@whiskeygirlssaloon.com
SUMMARY:Hillbilly National Bank
DESCRIPTION:
URL:https://whiskeygirlssaloon.com/event/hillbilly-national-bank-2/
LOCATION:Whiskey Girls Saloon\, 13700 FM973 Bldg A\, Manor\, Texas\, 78653
END:VEVENT
BEGIN:VEVENT
DTSTART;TZID=UTC:20221028T210000
DTEND;TZID=UTC:20221028T210000
DTSTAMP:20260422T020033
CREATED:20220809T194227Z
LAST-MODIFIED:20220809T194227Z
UID:775-1666990800-1666990800@whiskeygirlssaloon.com
SUMMARY:D Soul
DESCRIPTION:
URL:https://whiskeygirlssaloon.com/event/d-soul-7/
LOCATION:Texas
END:VEVENT
BEGIN:VEVENT
DTSTART;TZID=UTC:20221014T210000
DTEND;TZID=UTC:20221014T210000
DTSTAMP:20260422T020033
CREATED:20220809T194102Z
LAST-MODIFIED:20220809T194102Z
UID:771-1665781200-1665781200@whiskeygirlssaloon.com
SUMMARY:Hit & Run
DESCRIPTION:
URL:https://whiskeygirlssaloon.com/event/hit-run-4/
LOCATION:Whiskey Girls Saloon\, 13700 FM973 Bldg A\, Manor\, Texas\, 78653
END:VEVENT
BEGIN:VEVENT
DTSTART;TZID=UTC:20221007T210000
DTEND;TZID=UTC:20221007T210000
DTSTAMP:20260422T020033
CREATED:20220504T170807Z
LAST-MODIFIED:20220809T194004Z
UID:742-1665176400-1665176400@whiskeygirlssaloon.com
SUMMARY:American Gypsy
DESCRIPTION:
URL:https://whiskeygirlssaloon.com/event/american-gypsy-2/
LOCATION:Whiskey Girls Saloon\, 13700 FM973 Bldg A\, Manor\, Texas\, 78653
END:VEVENT
BEGIN:VEVENT
DTSTART;TZID=UTC:20220930T210000
DTEND;TZID=UTC:20220930T210000
DTSTAMP:20260422T020033
CREATED:20220809T193822Z
LAST-MODIFIED:20220809T193822Z
UID:769-1664571600-1664571600@whiskeygirlssaloon.com
SUMMARY:Tish & The Mizzbehavin' Band
DESCRIPTION:
URL:https://whiskeygirlssaloon.com/event/tish-the-mizzbehavin-band/
LOCATION:Whiskey Girls Saloon\, 13700 FM973 Bldg A\, Manor\, Texas\, 78653
END:VEVENT
BEGIN:VEVENT
DTSTART;TZID=UTC:20220917T210000
DTEND;TZID=UTC:20220917T210000
DTSTAMP:20260422T020033
CREATED:20220809T193535Z
LAST-MODIFIED:20220809T193535Z
UID:767-1663448400-1663448400@whiskeygirlssaloon.com
SUMMARY:Jon & Faith Austin
DESCRIPTION:
URL:https://whiskeygirlssaloon.com/event/jon-faith-austin-2/
LOCATION:Texas
END:VEVENT
BEGIN:VEVENT
DTSTART;TZID=UTC:20220916T210000
DTEND;TZID=UTC:20220916T210000
DTSTAMP:20260422T020033
CREATED:20220124T230301Z
LAST-MODIFIED:20220809T193447Z
UID:717-1663362000-1663362000@whiskeygirlssaloon.com
SUMMARY:Glen Collins & the Alibis
DESCRIPTION:
URL:https://whiskeygirlssaloon.com/event/glen-collins-the-alibis-6/
LOCATION:Whiskey Girls Saloon\, 13700 FM973 Bldg A\, Manor\, Texas\, 78653
END:VEVENT
BEGIN:VEVENT
DTSTART;TZID=UTC:20220910T210000
DTEND;TZID=UTC:20220910T210000
DTSTAMP:20260422T020033
CREATED:20220809T193419Z
LAST-MODIFIED:20220809T193419Z
UID:765-1662843600-1662843600@whiskeygirlssaloon.com
SUMMARY:Moon Tide
DESCRIPTION:
URL:https://whiskeygirlssaloon.com/event/moon-tide-3/
LOCATION:Texas
END:VEVENT
BEGIN:VEVENT
DTSTART;TZID=UTC:20220909T210000
DTEND;TZID=UTC:20220909T210000
DTSTAMP:20260422T020033
CREATED:20220124T230208Z
LAST-MODIFIED:20220124T230208Z
UID:715-1662757200-1662757200@whiskeygirlssaloon.com
SUMMARY:D-Soul
DESCRIPTION:
URL:https://whiskeygirlssaloon.com/event/d-soul-5/
LOCATION:Whiskey Girls Saloon\, 13700 FM973 Bldg A\, Manor\, Texas\, 78653
END:VEVENT
END:VCALENDAR