BEGIN:VCALENDAR
VERSION:2.0
PRODID:-//The Whiskey Girls Saloon - ECPv6.15.20//NONSGML v1.0//EN
CALSCALE:GREGORIAN
METHOD:PUBLISH
X-WR-CALNAME:The Whiskey Girls Saloon
X-ORIGINAL-URL:https://whiskeygirlssaloon.com
X-WR-CALDESC:Events for The Whiskey Girls Saloon
REFRESH-INTERVAL;VALUE=DURATION:PT1H
X-Robots-Tag:noindex
X-PUBLISHED-TTL:PT1H
BEGIN:VTIMEZONE
TZID:America/Denver
BEGIN:DAYLIGHT
TZOFFSETFROM:-0700
TZOFFSETTO:-0600
TZNAME:MDT
DTSTART:20230312T090000
END:DAYLIGHT
BEGIN:STANDARD
TZOFFSETFROM:-0600
TZOFFSETTO:-0700
TZNAME:MST
DTSTART:20231105T080000
END:STANDARD
BEGIN:DAYLIGHT
TZOFFSETFROM:-0700
TZOFFSETTO:-0600
TZNAME:MDT
DTSTART:20240310T090000
END:DAYLIGHT
BEGIN:STANDARD
TZOFFSETFROM:-0600
TZOFFSETTO:-0700
TZNAME:MST
DTSTART:20241103T080000
END:STANDARD
BEGIN:DAYLIGHT
TZOFFSETFROM:-0700
TZOFFSETTO:-0600
TZNAME:MDT
DTSTART:20250309T090000
END:DAYLIGHT
BEGIN:STANDARD
TZOFFSETFROM:-0600
TZOFFSETTO:-0700
TZNAME:MST
DTSTART:20251102T080000
END:STANDARD
END:VTIMEZONE
BEGIN:VTIMEZONE
TZID:UTC
BEGIN:STANDARD
TZOFFSETFROM:+0000
TZOFFSETTO:+0000
TZNAME:UTC
DTSTART:20230101T000000
END:STANDARD
END:VTIMEZONE
BEGIN:VEVENT
DTSTART;TZID=America/Denver:20240817T210000
DTEND;TZID=America/Denver:20240817T235900
DTSTAMP:20260421T190914
CREATED:20240729T213540Z
LAST-MODIFIED:20240729T213540Z
UID:1140-1723928400-1723939140@whiskeygirlssaloon.com
SUMMARY:DJ Smackola
DESCRIPTION:
URL:https://whiskeygirlssaloon.com/event/dj-smackola-8-10/
LOCATION:Whiskey Girls Saloon\, 13700 FM973 Bldg A\, Manor\, Texas\, 78653
END:VEVENT
BEGIN:VEVENT
DTSTART;TZID=America/Denver:20240816T210000
DTEND;TZID=America/Denver:20240816T235900
DTSTAMP:20260421T190914
CREATED:20240627T213440Z
LAST-MODIFIED:20240808T210132Z
UID:1133-1723842000-1723852740@whiskeygirlssaloon.com
SUMMARY:CANCELED: George Mercado
DESCRIPTION:
URL:https://whiskeygirlssaloon.com/event/george-mercado-8-16/
LOCATION:Whiskey Girls Saloon\, 13700 FM973 Bldg A\, Manor\, Texas\, 78653
END:VEVENT
BEGIN:VEVENT
DTSTART;TZID=America/Denver:20240810T210000
DTEND;TZID=America/Denver:20240810T235900
DTSTAMP:20260421T190914
CREATED:20240729T213124Z
LAST-MODIFIED:20240729T213124Z
UID:1138-1723323600-1723334340@whiskeygirlssaloon.com
SUMMARY:DJ DK
DESCRIPTION:
URL:https://whiskeygirlssaloon.com/event/dj-dk-8-10/
LOCATION:Whiskey Girls Saloon\, 13700 FM973 Bldg A\, Manor\, Texas\, 78653
END:VEVENT
BEGIN:VEVENT
DTSTART;TZID=America/Denver:20240809T210000
DTEND;TZID=America/Denver:20240809T235900
DTSTAMP:20260421T190914
CREATED:20240627T213300Z
LAST-MODIFIED:20240627T213300Z
UID:1131-1723237200-1723247940@whiskeygirlssaloon.com
SUMMARY:D-Soul Davis Experience
DESCRIPTION:
URL:https://whiskeygirlssaloon.com/event/d-soul-davis-experience-8-9/
LOCATION:Whiskey Girls Saloon\, 13700 FM973 Bldg A\, Manor\, Texas\, 78653
END:VEVENT
BEGIN:VEVENT
DTSTART;TZID=America/Denver:20240802T210000
DTEND;TZID=America/Denver:20240802T235900
DTSTAMP:20260421T190914
CREATED:20240627T213109Z
LAST-MODIFIED:20240627T213109Z
UID:1129-1722632400-1722643140@whiskeygirlssaloon.com
SUMMARY:Dirt Road Band
DESCRIPTION:
URL:https://whiskeygirlssaloon.com/event/dirt-road-band-8-2/
LOCATION:Whiskey Girls Saloon\, 13700 FM973 Bldg A\, Manor\, Texas\, 78653
END:VEVENT
BEGIN:VEVENT
DTSTART;TZID=America/Denver:20240726T210000
DTEND;TZID=America/Denver:20240726T235900
DTSTAMP:20260421T190914
CREATED:20240627T191640Z
LAST-MODIFIED:20240627T191640Z
UID:1127-1722027600-1722038340@whiskeygirlssaloon.com
SUMMARY:Dry County
DESCRIPTION:
URL:https://whiskeygirlssaloon.com/event/dry-county-7-26/
LOCATION:Whiskey Girls Saloon\, 13700 FM973 Bldg A\, Manor\, Texas\, 78653
END:VEVENT
BEGIN:VEVENT
DTSTART;TZID=America/Denver:20240719T210000
DTEND;TZID=America/Denver:20240719T235900
DTSTAMP:20260421T190914
CREATED:20240627T190655Z
LAST-MODIFIED:20240627T190921Z
UID:1121-1721422800-1721433540@whiskeygirlssaloon.com
SUMMARY:Whitestone
DESCRIPTION:
URL:https://whiskeygirlssaloon.com/event/whitestone-7-19/
LOCATION:Whiskey Girls Saloon\, 13700 FM973 Bldg A\, Manor\, Texas\, 78653
END:VEVENT
BEGIN:VEVENT
DTSTART;TZID=America/Denver:20240712T210000
DTEND;TZID=America/Denver:20240712T235900
DTSTAMP:20260421T190914
CREATED:20240627T191123Z
LAST-MODIFIED:20240627T191123Z
UID:1125-1720818000-1720828740@whiskeygirlssaloon.com
SUMMARY:DJ DK
DESCRIPTION:
URL:https://whiskeygirlssaloon.com/event/dj-dk-7-12/
LOCATION:Whiskey Girls Saloon\, 13700 FM973 Bldg A\, Manor\, Texas\, 78653
END:VEVENT
BEGIN:VEVENT
DTSTART;TZID=America/Denver:20240705T210000
DTEND;TZID=America/Denver:20240705T235900
DTSTAMP:20260421T190914
CREATED:20240627T190401Z
LAST-MODIFIED:20240627T190401Z
UID:1119-1720213200-1720223940@whiskeygirlssaloon.com
SUMMARY:Michael Ingalls
DESCRIPTION:
URL:https://whiskeygirlssaloon.com/event/michael-ingalls-7-5/
LOCATION:Whiskey Girls Saloon\, 13700 FM973 Bldg A\, Manor\, Texas\, 78653
END:VEVENT
BEGIN:VEVENT
DTSTART;TZID=America/Denver:20240628T210000
DTEND;TZID=America/Denver:20240628T235900
DTSTAMP:20260421T190914
CREATED:20240401T191038Z
LAST-MODIFIED:20240401T191038Z
UID:1116-1719608400-1719619140@whiskeygirlssaloon.com
SUMMARY:X-Factory
DESCRIPTION:
URL:https://whiskeygirlssaloon.com/event/x-factory-6-28/
LOCATION:Whiskey Girls Saloon\, 13700 FM973 Bldg A\, Manor\, Texas\, 78653
END:VEVENT
BEGIN:VEVENT
DTSTART;TZID=America/Denver:20240614T210000
DTEND;TZID=America/Denver:20240614T235900
DTSTAMP:20260421T190914
CREATED:20240401T190810Z
LAST-MODIFIED:20240401T190810Z
UID:1114-1718398800-1718409540@whiskeygirlssaloon.com
SUMMARY:Jon & Faith Austin
DESCRIPTION:
URL:https://whiskeygirlssaloon.com/event/jon-faith-austin-6-14/
LOCATION:Whiskey Girls Saloon\, 13700 FM973 Bldg A\, Manor\, Texas\, 78653
END:VEVENT
BEGIN:VEVENT
DTSTART;TZID=America/Denver:20240607T210000
DTEND;TZID=America/Denver:20240607T235900
DTSTAMP:20260421T190914
CREATED:20240401T190519Z
LAST-MODIFIED:20240401T190519Z
UID:1112-1717794000-1717804740@whiskeygirlssaloon.com
SUMMARY:Hillbilly National Bank
DESCRIPTION:
URL:https://whiskeygirlssaloon.com/event/hillbilly-national-bank-6-7/
LOCATION:Whiskey Girls Saloon\, 13700 FM973 Bldg A\, Manor\, Texas\, 78653
END:VEVENT
BEGIN:VEVENT
DTSTART;TZID=America/Denver:20240524T210000
DTEND;TZID=America/Denver:20240524T235900
DTSTAMP:20260421T190914
CREATED:20240401T185959Z
LAST-MODIFIED:20240401T185959Z
UID:1110-1716584400-1716595140@whiskeygirlssaloon.com
SUMMARY:Whitestone
DESCRIPTION:
URL:https://whiskeygirlssaloon.com/event/whitestone-5-24/
LOCATION:Whiskey Girls Saloon\, 13700 FM973 Bldg A\, Manor\, Texas\, 78653
END:VEVENT
BEGIN:VEVENT
DTSTART;TZID=America/Denver:20240517T210000
DTEND;TZID=America/Denver:20240517T235900
DTSTAMP:20260421T190914
CREATED:20240401T185719Z
LAST-MODIFIED:20240401T185719Z
UID:1108-1715979600-1715990340@whiskeygirlssaloon.com
SUMMARY:Home At Last
DESCRIPTION:
URL:https://whiskeygirlssaloon.com/event/home-at-last-5-17/
LOCATION:Whiskey Girls Saloon\, 13700 FM973 Bldg A\, Manor\, Texas\, 78653
END:VEVENT
BEGIN:VEVENT
DTSTART;TZID=America/Denver:20240510T210000
DTEND;TZID=America/Denver:20240510T235900
DTSTAMP:20260421T190914
CREATED:20240401T185307Z
LAST-MODIFIED:20240401T185307Z
UID:1106-1715374800-1715385540@whiskeygirlssaloon.com
SUMMARY:Michael Milligan & The Texiana Bluez
DESCRIPTION:
URL:https://whiskeygirlssaloon.com/event/michael-milligan-the-texiana-bluez-5-10/
LOCATION:Whiskey Girls Saloon\, 13700 FM973 Bldg A\, Manor\, Texas\, 78653
END:VEVENT
BEGIN:VEVENT
DTSTART;TZID=America/Denver:20240503T210000
DTEND;TZID=America/Denver:20240503T235900
DTSTAMP:20260421T190914
CREATED:20240123T170022Z
LAST-MODIFIED:20240123T170022Z
UID:1092-1714770000-1714780740@whiskeygirlssaloon.com
SUMMARY:Bidi Bidi Banda
DESCRIPTION:
URL:https://whiskeygirlssaloon.com/event/bidi-bidi-banda-5-3/
LOCATION:Whiskey Girls Saloon\, 13700 FM973 Bldg A\, Manor\, Texas\, 78653
END:VEVENT
BEGIN:VEVENT
DTSTART;TZID=America/Denver:20240426T210000
DTEND;TZID=America/Denver:20240426T234500
DTSTAMP:20260421T190914
CREATED:20240123T165619Z
LAST-MODIFIED:20240123T165619Z
UID:1090-1714165200-1714175100@whiskeygirlssaloon.com
SUMMARY:George Mercado
DESCRIPTION:
URL:https://whiskeygirlssaloon.com/event/george-mercado-4-26/
LOCATION:Whiskey Girls Saloon\, 13700 FM973 Bldg A\, Manor\, Texas\, 78653
END:VEVENT
BEGIN:VEVENT
DTSTART;TZID=UTC:20240420T080000
DTEND;TZID=UTC:20240420T170000
DTSTAMP:20260421T190914
CREATED:20240401T185100Z
LAST-MODIFIED:20240401T185100Z
UID:1104-1713600000-1713632400@whiskeygirlssaloon.com
SUMMARY:DJ FLACO
DESCRIPTION:
URL:https://whiskeygirlssaloon.com/event/dj-flaco-4-20/
LOCATION:Whiskey Girls Saloon\, 13700 FM973 Bldg A\, Manor\, Texas\, 78653
END:VEVENT
BEGIN:VEVENT
DTSTART;TZID=America/Denver:20240419T210000
DTEND;TZID=America/Denver:20240419T235900
DTSTAMP:20260421T190914
CREATED:20240401T184738Z
LAST-MODIFIED:20240401T184738Z
UID:1102-1713560400-1713571140@whiskeygirlssaloon.com
SUMMARY:DJ MENACE
DESCRIPTION:
URL:https://whiskeygirlssaloon.com/event/dj-menace-4-19/
LOCATION:Whiskey Girls Saloon\, 13700 FM973 Bldg A\, Manor\, Texas\, 78653
END:VEVENT
BEGIN:VEVENT
DTSTART;TZID=America/Denver:20240412T210000
DTEND;TZID=America/Denver:20240412T235900
DTSTAMP:20260421T190914
CREATED:20240401T184502Z
LAST-MODIFIED:20240401T184502Z
UID:1100-1712955600-1712966340@whiskeygirlssaloon.com
SUMMARY:Dry County
DESCRIPTION:
URL:https://whiskeygirlssaloon.com/event/dry-county-4-12/
LOCATION:Whiskey Girls Saloon\, 13700 FM973 Bldg A\, Manor\, Texas\, 78653
END:VEVENT
BEGIN:VEVENT
DTSTART;TZID=America/Denver:20240406T210000
DTEND;TZID=America/Denver:20240406T235900
DTSTAMP:20260421T190914
CREATED:20240401T184312Z
LAST-MODIFIED:20240401T184312Z
UID:1098-1712437200-1712447940@whiskeygirlssaloon.com
SUMMARY:DJ DK
DESCRIPTION:
URL:https://whiskeygirlssaloon.com/event/dj-dk-4-6/
LOCATION:Whiskey Girls Saloon\, 13700 FM973 Bldg A\, Manor\, Texas\, 78653
END:VEVENT
BEGIN:VEVENT
DTSTART;TZID=America/Denver:20240405T210000
DTEND;TZID=America/Denver:20240405T235900
DTSTAMP:20260421T190914
CREATED:20240401T184014Z
LAST-MODIFIED:20240401T184014Z
UID:1096-1712350800-1712361540@whiskeygirlssaloon.com
SUMMARY:Moon Tide
DESCRIPTION:
URL:https://whiskeygirlssaloon.com/event/moon-tide-4-5/
LOCATION:Whiskey Girls Saloon\, 13700 FM973 Bldg A\, Manor\, Texas\, 78653
END:VEVENT
BEGIN:VEVENT
DTSTART;TZID=America/Denver:20240329T210000
DTEND;TZID=America/Denver:20240329T235900
DTSTAMP:20260421T190914
CREATED:20240123T165407Z
LAST-MODIFIED:20240123T165407Z
UID:1088-1711746000-1711756740@whiskeygirlssaloon.com
SUMMARY:D Soul Experience
DESCRIPTION:
URL:https://whiskeygirlssaloon.com/event/d-soul-experience-3-29/
LOCATION:Whiskey Girls Saloon\, 13700 FM973 Bldg A\, Manor\, Texas\, 78653
END:VEVENT
BEGIN:VEVENT
DTSTART;TZID=America/Denver:20240322T210000
DTEND;TZID=America/Denver:20240322T235900
DTSTAMP:20260421T190914
CREATED:20240123T165158Z
LAST-MODIFIED:20240123T165158Z
UID:1086-1711141200-1711151940@whiskeygirlssaloon.com
SUMMARY:Dirt Road Band
DESCRIPTION:
URL:https://whiskeygirlssaloon.com/event/dirt-road-band-3-22/
LOCATION:Whiskey Girls Saloon\, 13700 FM973 Bldg A\, Manor\, Texas\, 78653
END:VEVENT
BEGIN:VEVENT
DTSTART;TZID=America/Denver:20240308T210000
DTEND;TZID=America/Denver:20240308T235900
DTSTAMP:20260421T190914
CREATED:20240123T165007Z
LAST-MODIFIED:20240123T165007Z
UID:1084-1709931600-1709942340@whiskeygirlssaloon.com
SUMMARY:Whitestone
DESCRIPTION:
URL:https://whiskeygirlssaloon.com/event/whitestone-3-8/
LOCATION:Whiskey Girls Saloon\, 13700 FM973 Bldg A\, Manor\, Texas\, 78653
END:VEVENT
BEGIN:VEVENT
DTSTART;TZID=America/Denver:20240223T210000
DTEND;TZID=America/Denver:20240223T235900
DTSTAMP:20260421T190914
CREATED:20240123T164324Z
LAST-MODIFIED:20240123T164324Z
UID:1082-1708722000-1708732740@whiskeygirlssaloon.com
SUMMARY:Los Juanabes
DESCRIPTION:
URL:https://whiskeygirlssaloon.com/event/los-juanabes-2-23/
LOCATION:Whiskey Girls Saloon\, 13700 FM973 Bldg A\, Manor\, Texas\, 78653
END:VEVENT
BEGIN:VEVENT
DTSTART;TZID=America/Denver:20240216T210000
DTEND;TZID=America/Denver:20240216T235900
DTSTAMP:20260421T190914
CREATED:20240123T164102Z
LAST-MODIFIED:20240123T164102Z
UID:1080-1708117200-1708127940@whiskeygirlssaloon.com
SUMMARY:The Alibis
DESCRIPTION:
URL:https://whiskeygirlssaloon.com/event/the-alibis-2-16/
LOCATION:Whiskey Girls Saloon\, 13700 FM973 Bldg A\, Manor\, Texas\, 78653
END:VEVENT
BEGIN:VEVENT
DTSTART;TZID=America/Denver:20240209T210000
DTEND;TZID=America/Denver:20240209T235900
DTSTAMP:20260421T190914
CREATED:20240123T163748Z
LAST-MODIFIED:20240123T163748Z
UID:1078-1707512400-1707523140@whiskeygirlssaloon.com
SUMMARY:X Factory
DESCRIPTION:
URL:https://whiskeygirlssaloon.com/event/x-factory-2-9/
LOCATION:Whiskey Girls Saloon\, 13700 FM973 Bldg A\, Manor\, Texas\, 78653
END:VEVENT
BEGIN:VEVENT
DTSTART;TZID=America/Denver:20240202T210000
DTEND;TZID=America/Denver:20240202T235900
DTSTAMP:20260421T190914
CREATED:20240123T163538Z
LAST-MODIFIED:20240123T163538Z
UID:1076-1706907600-1706918340@whiskeygirlssaloon.com
SUMMARY:Dry County
DESCRIPTION:
URL:https://whiskeygirlssaloon.com/event/dry-county/
LOCATION:Whiskey Girls Saloon\, 13700 FM973 Bldg A\, Manor\, Texas\, 78653
END:VEVENT
BEGIN:VEVENT
DTSTART;TZID=America/Denver:20240126T210000
DTEND;TZID=America/Denver:20240126T235900
DTSTAMP:20260421T190914
CREATED:20240123T161933Z
LAST-MODIFIED:20240123T161933Z
UID:1074-1706302800-1706313540@whiskeygirlssaloon.com
SUMMARY:Michael Ingalls Band
DESCRIPTION:
URL:https://whiskeygirlssaloon.com/event/michael-ingalls-band-1-26/
LOCATION:Whiskey Girls Saloon\, 13700 FM973 Bldg A\, Manor\, Texas\, 78653
END:VEVENT
END:VCALENDAR