BEGIN:VCALENDAR
VERSION:2.0
PRODID:-//The Whiskey Girls Saloon - ECPv6.15.20//NONSGML v1.0//EN
CALSCALE:GREGORIAN
METHOD:PUBLISH
X-ORIGINAL-URL:https://whiskeygirlssaloon.com
X-WR-CALDESC:Events for The Whiskey Girls Saloon
REFRESH-INTERVAL;VALUE=DURATION:PT1H
X-Robots-Tag:noindex
X-PUBLISHED-TTL:PT1H
BEGIN:VTIMEZONE
TZID:UTC
BEGIN:STANDARD
TZOFFSETFROM:+0000
TZOFFSETTO:+0000
TZNAME:UTC
DTSTART:20230101T000000
END:STANDARD
END:VTIMEZONE
BEGIN:VEVENT
DTSTART;TZID=UTC:20241025T210000
DTEND;TZID=UTC:20241025T210000
DTSTAMP:20260421T221639
CREATED:20241004T024648Z
LAST-MODIFIED:20241004T024648Z
UID:1167-1729890000-1729890000@whiskeygirlssaloon.com
SUMMARY:Halloween Party w/ DJ DK
DESCRIPTION:
URL:https://whiskeygirlssaloon.com/event/halloween-party-w-dj-dk/
LOCATION:Texas
END:VEVENT
END:VCALENDAR