BEGIN:VCALENDAR
VERSION:2.0
PRODID:-//The Whiskey Girls Saloon - ECPv6.15.20//NONSGML v1.0//EN
CALSCALE:GREGORIAN
METHOD:PUBLISH
X-ORIGINAL-URL:https://whiskeygirlssaloon.com
X-WR-CALDESC:Events for The Whiskey Girls Saloon
REFRESH-INTERVAL;VALUE=DURATION:PT1H
X-Robots-Tag:noindex
X-PUBLISHED-TTL:PT1H
BEGIN:VTIMEZONE
TZID:UTC
BEGIN:STANDARD
TZOFFSETFROM:+0000
TZOFFSETTO:+0000
TZNAME:UTC
DTSTART:20230101T000000
END:STANDARD
END:VTIMEZONE
BEGIN:VEVENT
DTSTART;TZID=UTC:20241019T210000
DTEND;TZID=UTC:20241019T210000
DTSTAMP:20260421T221741
CREATED:20241004T025511Z
LAST-MODIFIED:20241004T025511Z
UID:1178-1729371600-1729371600@whiskeygirlssaloon.com
SUMMARY:DJ DK
DESCRIPTION:
URL:https://whiskeygirlssaloon.com/event/dj-dk-3/
LOCATION:Texas
END:VEVENT
END:VCALENDAR