BEGIN:VCALENDAR
VERSION:2.0
PRODID:-//The Whiskey Girls Saloon - ECPv6.15.20//NONSGML v1.0//EN
CALSCALE:GREGORIAN
METHOD:PUBLISH
X-WR-CALNAME:The Whiskey Girls Saloon
X-ORIGINAL-URL:https://whiskeygirlssaloon.com
X-WR-CALDESC:Events for The Whiskey Girls Saloon
REFRESH-INTERVAL;VALUE=DURATION:PT1H
X-Robots-Tag:noindex
X-PUBLISHED-TTL:PT1H
BEGIN:VTIMEZONE
TZID:UTC
BEGIN:STANDARD
TZOFFSETFROM:+0000
TZOFFSETTO:+0000
TZNAME:UTC
DTSTART:20230101T000000
END:STANDARD
END:VTIMEZONE
BEGIN:VEVENT
DTSTART;TZID=UTC:20241005T210000
DTEND;TZID=UTC:20241005T210000
DTSTAMP:20260421T204110
CREATED:20241004T025231Z
LAST-MODIFIED:20241004T025231Z
UID:1172-1728162000-1728162000@whiskeygirlssaloon.com
SUMMARY:DJ DK
DESCRIPTION:
URL:https://whiskeygirlssaloon.com/event/dj-dk/
LOCATION:Texas
END:VEVENT
END:VCALENDAR